BEGIN:VCALENDAR
VERSION:2.0
PRODID:-//LandFrauen - ECPv6.15.20//NONSGML v1.0//EN
CALSCALE:GREGORIAN
METHOD:PUBLISH
X-WR-CALNAME:LandFrauen
X-ORIGINAL-URL:https://cux-landfrauen.de
X-WR-CALDESC:Veranstaltungen für LandFrauen
REFRESH-INTERVAL;VALUE=DURATION:PT1H
X-Robots-Tag:noindex
X-PUBLISHED-TTL:PT1H
BEGIN:VTIMEZONE
TZID:Europe/Berlin
BEGIN:DAYLIGHT
TZOFFSETFROM:+0100
TZOFFSETTO:+0200
TZNAME:CEST
DTSTART:20240331T010000
END:DAYLIGHT
BEGIN:STANDARD
TZOFFSETFROM:+0200
TZOFFSETTO:+0100
TZNAME:CET
DTSTART:20241027T010000
END:STANDARD
BEGIN:DAYLIGHT
TZOFFSETFROM:+0100
TZOFFSETTO:+0200
TZNAME:CEST
DTSTART:20250330T010000
END:DAYLIGHT
BEGIN:STANDARD
TZOFFSETFROM:+0200
TZOFFSETTO:+0100
TZNAME:CET
DTSTART:20251026T010000
END:STANDARD
BEGIN:DAYLIGHT
TZOFFSETFROM:+0100
TZOFFSETTO:+0200
TZNAME:CEST
DTSTART:20260329T010000
END:DAYLIGHT
BEGIN:STANDARD
TZOFFSETFROM:+0200
TZOFFSETTO:+0100
TZNAME:CET
DTSTART:20261025T010000
END:STANDARD
END:VTIMEZONE
BEGIN:VEVENT
DTSTART;TZID=Europe/Berlin:20251130T080000
DTEND;TZID=Europe/Berlin:20251202T184500
DTSTAMP:20260423T220922
CREATED:20250216T114808Z
LAST-MODIFIED:20250312T173220Z
UID:8530-1764489600-1764701100@cux-landfrauen.de
SUMMARY:Adventsfahrt nach Thüringen
DESCRIPTION:Wir führen vom 30.11.2025 bis 02.12.2025 eine Adventsreise nach Thüringen durch. Die Reise führt uns nicht nur in die vorweihnachtlichen Städte Erfurt und Weimar\, sondern auch in die Weinregion Saale-Unstrut und der Rotkäppchen-Kellerei. Für diese Fahrt stehen noch Plätze zur Verfügung\, eine Anmeldung ist noch bis zum 15.04.2025 möglich. Nähere Informationen und die Anmeldung können alle interessierte Frauen unter folgender E-Mail: moin@landfrauen-krempel.de und 04745-7835458 vornehmen.
URL:https://cux-landfrauen.de/termin/adventsfahrt-nach-thueringen/
LOCATION:Weimar\, Erfurt\, Weinregion Saale-Untrut\, Weimar\, Germany
CATEGORIES:Fahrten,LFV Krempel
ATTACH;FMTTYPE=image/png:https://cux-landfrauen.de/wp-content/uploads/2021/11/lfv-event-fahrten.png
END:VEVENT
BEGIN:VEVENT
DTSTART;TZID=Europe/Berlin:20251201T193000
DTEND;TZID=Europe/Berlin:20251201T193000
DTSTAMP:20260423T220922
CREATED:20251009T174406Z
LAST-MODIFIED:20251009T174406Z
UID:9456-1764617400-1764617400@cux-landfrauen.de
SUMMARY:Verwöhnabend: „All-inklusive-Weihnachtsbuffet“
DESCRIPTION:Ein wunderbaren Essen- und Getränke-Buffet erwartet uns \nKürbiscremesuppe \nSalatbar\nEntenbrust an Aprikosenspalten\nLachsfilet auf Spinatbett\nRinderrouladen\nApfelrotkohl\, Rosenkohl und Wurzelgemüse\nSahnekartoffeln\, Risoleekartoffeln und Kroketten\nGeflügelsoße\, Sauce Hollandaise und Bratensoße \nVanilleeis mit heißen Zimtpflaumen \nInklusive folgender Getränkeauswahl: \nSektempfang \nBier\, Wein\, Softgetränke\, Lillet\, Aperol\,\nAlkoholfreies\, u. a. alkoholfreie Biere\, Wein\, Sekt\, Fruchtschorlen \nKaffeestation \n(Anmeldung durch Überweisung)
URL:https://cux-landfrauen.de/termin/verwoehnabend-all-inklusive-weihnachtsbuffet/
LOCATION:Gaststätte „Waidmannsruh“\, Ringstraße 45\, Loxstedt-Stinstedt\, 27612\, Germany
CATEGORIES:AK aktiver Bäuerinnen
ATTACH;FMTTYPE=image/png:https://cux-landfrauen.de/wp-content/uploads/2021/11/lfv-event-versammlung.png
END:VEVENT
BEGIN:VEVENT
DTSTART;TZID=Europe/Berlin:20251204T074500
DTEND;TZID=Europe/Berlin:20251205T203000
DTSTAMP:20260423T220922
CREATED:20250722T174936Z
LAST-MODIFIED:20250722T174936Z
UID:9182-1764834300-1764966600@cux-landfrauen.de
SUMMARY:Fahrt zum Weihnachtsmarkt nach Kiel und Gut Stockseehof
DESCRIPTION:Unsere Mehrtagesfahrt vom 04.12.-05.12.25 zum Weihnachtsmarkt führt uns in diesem Jahr nach Kiel. Auf dem Obsthof Matthies in Jork erwartet uns im Glashauscafé ein Frühstücksbüfett. In Kiel angekommen haben wir Zeit\, den Weihnachtsmarkt der Hafenstadt zu genießen und zu bummeln. Übernachten werden wir im „Atlantic Hotel Kiel“.\nAm nächsten Morgen fahren wir\, nach dem reichhaltigen Frühstück\, zum Gut Stockseehof.\nIn der großen Weihnachtsmarktscheune und dem Weihnachtszelt auf dem Gutshof bieten ca.110 Aussteller alles\, was das Weihnachtsherz begehrt.\nUm 17.00 Uhr werden wir die Heimreise antreten. \nKosten pro Person: DZ: 209\,– Euro\nEZ: 258\,– Euro\nAnmeldung bis zum 25.09.25 bei Emmeli Puls Tel. 04745/6600 od. 0152/57278661 \nAbfahrten:\n7.50 Uhr Bruns Eck\, Langen\n8.00 Uhr Am Markt\, Debstedt\n8.10 Uhr Tante Enso\, Drangstedt\n8.20 Uhr Moortherme\, Bad Bederkesa\n8.30 Uhr Gasthaus Roes\, Lintig
URL:https://cux-landfrauen.de/termin/fahrt-zum-weihnachtsmarkt-nach-kiel-und-gut-stockseehof/
CATEGORIES:Fahrten,LFV Bederkesa
ATTACH;FMTTYPE=image/png:https://cux-landfrauen.de/wp-content/uploads/2021/11/lfv-event-fahrten.png
END:VEVENT
BEGIN:VEVENT
DTSTART;TZID=Europe/Berlin:20251204T190000
DTEND;TZID=Europe/Berlin:20251204T190000
DTSTAMP:20260423T220922
CREATED:20250929T160613Z
LAST-MODIFIED:20250929T160613Z
UID:9408-1764874800-1764874800@cux-landfrauen.de
SUMMARY:Adventsfeier mal anders
DESCRIPTION:In diesem Jahr möchten wir die Adventsfeier etwas anders gestalten. Es wird ein kleines Programm mit Geschichten und Liedern geben und auch viel Zeit zum Klönen. \nAnmeldung ab 14.11.2025 über den Kartenvorverkauf bei den Ortsvertreterinnen.
URL:https://cux-landfrauen.de/termin/adventsfeier-mal-anders/
LOCATION:Gaststätte Büttelmann
CATEGORIES:LFV Beverstedt
ATTACH;FMTTYPE=image/png:https://cux-landfrauen.de/wp-content/uploads/2021/11/lfv-event-versammlung.png
END:VEVENT
BEGIN:VEVENT
DTSTART;TZID=Europe/Berlin:20251204T193000
DTEND;TZID=Europe/Berlin:20251204T193000
DTSTAMP:20260423T220922
CREATED:20250910T152617Z
LAST-MODIFIED:20250910T152617Z
UID:9291-1764876600-1764876600@cux-landfrauen.de
SUMMARY:Operette – Die Csárdásfürstin
DESCRIPTION:Ein Operette von Emmerich Kálmán. Die Csárdásfürstin\, die Chansonniere Sylva Varescu verliebt sich in den Fürstensohn Edwin von Lippert-Weylersheim\, der jedoch von seinen Eltern gezwungen wird\, die Cousine Stasi zu heiraten. \nTicketpreis: 36\,65€\nAnmeldung bis zum 19.11.25 bei Heidi Harms-Deelwater unter 04740/234
URL:https://cux-landfrauen.de/termin/operette-die-csardasfuerstin/
LOCATION:Stadttheater Bremerhaven\, Am Alten Hafen 25\, Bremerhaven\, 27568\, Deutschland
CATEGORIES:Kultur,LFV Landwürden
ATTACH;FMTTYPE=image/png:https://cux-landfrauen.de/wp-content/uploads/2021/11/lfv-event-kultur.png
END:VEVENT
BEGIN:VEVENT
DTSTART;TZID=Europe/Berlin:20251205T080000
DTEND;TZID=Europe/Berlin:20251205T080000
DTSTAMP:20260423T220922
CREATED:20251005T114029Z
LAST-MODIFIED:20251005T114029Z
UID:9415-1764921600-1764921600@cux-landfrauen.de
SUMMARY:Weihnachtmarkt auf Gut Stockseehof
DESCRIPTION:Mit dem Bus machen wir uns von Hagen auf den Weg nach Schleswig-Holstein\, wo wir ca. 110 Austeller:innen auf dem Weihnachtsmarkt auf uns warten. Dort wird alles geboten\, was die Vorfreude auf das Weihnachtsfest steigen lässt.
URL:https://cux-landfrauen.de/termin/weihnachtmarkt-auf-gut-stockseehof/
LOCATION:Abfahrt ZOB Hagen im Bremischen\, Hagen im Bremischen\, Germany
CATEGORIES:Fahrten,LFV Bramstedt
ATTACH;FMTTYPE=image/jpeg:https://cux-landfrauen.de/wp-content/uploads/2025/10/Weihnachtsmarkt-16b357a4f742cfffd118f74abb84fe14.jpg
END:VEVENT
BEGIN:VEVENT
DTSTART;TZID=Europe/Berlin:20251206T100000
DTEND;TZID=Europe/Berlin:20251206T100000
DTSTAMP:20260423T220922
CREATED:20250920T081950Z
LAST-MODIFIED:20250920T082020Z
UID:9369-1765015200-1765015200@cux-landfrauen.de
SUMMARY:Festliches Weihnachtskonzert in der Glocke Bremen
DESCRIPTION:Neben den Klassikern werden faszinierende Bearbeitungen der schönsten Weihnachtslieder gespielt. Zudem gibt es drei Stunden Zeit\, um die weihnachtlich geschmückte Innenstadt von Bremen zu erkunden. \nAnmeldung ab sofort unter 0162 7639523\nNach Anzahl der Teilnehmerinnen entscheidet sich\, ob wir mit dem Zug oder dem Bus fahren.
URL:https://cux-landfrauen.de/termin/festliches-weihnachtskonzert-in-der-glocke-bremen/
LOCATION:Bremer Glocke\, Deutschland
CATEGORIES:Fahrten,LFV Beverstedt
ATTACH;FMTTYPE=image/png:https://cux-landfrauen.de/wp-content/uploads/2021/11/lfv-event-kultur.png
END:VEVENT
BEGIN:VEVENT
DTSTART;TZID=Europe/Berlin:20251206T110000
DTEND;TZID=Europe/Berlin:20251206T180000
DTSTAMP:20260423T220922
CREATED:20250903T143327Z
LAST-MODIFIED:20250903T143327Z
UID:9250-1765018800-1765044000@cux-landfrauen.de
SUMMARY:Fahrt zum Weihnachtsmarkt nach Leer
DESCRIPTION:Tagesausflug zum Weihnachtsmarkt nach Leer. \nAnmeldungen: landfrauenreisen@web.de
URL:https://cux-landfrauen.de/termin/fahrt-zum-weihnachtsmarkt-nach-leer/
LOCATION:Leer\, Stadtmitte\, Leer\, Germany
CATEGORIES:Fahrten,LFV Land Wursten
ATTACH;FMTTYPE=image/jpeg:https://cux-landfrauen.de/wp-content/uploads/2025/08/designed-by-freepik-7759021347b8967419b2044f8f6d6fa9.jpg
END:VEVENT
BEGIN:VEVENT
DTSTART;TZID=Europe/Berlin:20251206T150000
DTEND;TZID=Europe/Berlin:20251206T173000
DTSTAMP:20260423T220922
CREATED:20250812T151601Z
LAST-MODIFIED:20250812T151601Z
UID:9233-1765033200-1765042200@cux-landfrauen.de
SUMMARY:Theaterbesuch Bremerhaven
DESCRIPTION:Der Nussknacker ist eines der bekanntesten Ballettstücke und passt perfekt in die Weihnachtszeit.\nDieser Theaterbesuch ist nicht nur für Erwachsene\, sondern auch die Kinder / Enkelkinder / Nichten / Neffen u.s.w. sind ganz herzlich dazu eingeladen.\nEin stimmungsvoller Nachmittag für Groß und Klein\, bei dem sich ein Besuch des Weihnachtsmarktes anbietet. \nAnmeldung u.a. über diese Seite.
URL:https://cux-landfrauen.de/termin/theaterbesuch-bremerhaven-2/
LOCATION:Stadttheater Bremerhaven\, Am Alten Hafen 25\, Bremerhaven\, 27568\, Deutschland
CATEGORIES:Kultur,LFV Krempel
ATTACH;FMTTYPE=image/png:https://cux-landfrauen.de/wp-content/uploads/2021/11/lfv-event-kultur.png
END:VEVENT
BEGIN:VEVENT
DTSTART;TZID=Europe/Berlin:20251209T101500
DTEND;TZID=Europe/Berlin:20251209T101500
DTSTAMP:20260423T220922
CREATED:20250929T155658Z
LAST-MODIFIED:20250929T155658Z
UID:9395-1765275300-1765275300@cux-landfrauen.de
SUMMARY:Weihnachtsmarkt Bremen
DESCRIPTION:Am Dienstag\, den 09.12.25 fahren wir zum Bremer Weihnachtsmarkt. Dort haben wir die Gelegenheit gemütlich über den Weihnachsmarkt zu flanieren und es uns bei Glühwein und sonstigen Leckereien gut gehen zu lassen. Natürlich ist auch genügend Zeit zum Shoppen bis wir um 18.00 Uhr die Rückreise antreten. \nKosten: 22\,- Euro\nNichtmitglieder zahlen 15\,- Euro extra \nAnmeldung bis zum 15.11.25 bei Emmeli Puls Tel. 04745/6600 od. 0152/57278661
URL:https://cux-landfrauen.de/termin/weihnachtsmarkt-bremen-2/
LOCATION:Bremen\, Bremen\, Germany
CATEGORIES:Fahrten,LFV Bederkesa
ATTACH;FMTTYPE=image/png:https://cux-landfrauen.de/wp-content/uploads/2021/11/lfv-event-fahrten.png
END:VEVENT
BEGIN:VEVENT
DTSTART;TZID=Europe/Berlin:20251209T190000
DTEND;TZID=Europe/Berlin:20251209T213000
DTSTAMP:20260423T220922
CREATED:20250102T162352Z
LAST-MODIFIED:20250102T162352Z
UID:8243-1765306800-1765315800@cux-landfrauen.de
SUMMARY:Weihnachtsfeier
DESCRIPTION:Das Jahr geht zu Ende – Zeit\, gemeinsam das Jahr 2024 Revue passieren zu lassen. Wir stimmen uns an diesem Abend gemeinsam auf das kommende Weihnachtsfest ein und lassen den täglichen Stress und die Hektik hinter uns.\nIn diesem Jahr haben sich die LandFrauen aus Wittstedt besonders viel Mühe gegeben\, uns eine wunderschöne Weihnachtsfeier zu gestalten. \nWann: Dienstag\, 09. Dezember 2025\num 19:00 Uhr \nWo: Landhaus Ahrens\, Bramstedt\nDorfstraße 31\n27628 Hagen im Bremischen \nKosten: für ein Abendessen und Getränke\n(Den Betrag bitte vor Ort bezahlen.) \nAnmeldung: bis zum 24. November bei\nClaudia Siemers\, Tel. 04746/8166\nE-Mail: claudiasmrs@gmail.com
URL:https://cux-landfrauen.de/termin/weihnachtsfeier-9/
LOCATION:Bauernschänke\, Landhaus Ahrens\, Dorfstraße 31\, Hagen im Bremischen\, 27628\, Deutschland
CATEGORIES:LFV Bramstedt,Versammlung
ATTACH;FMTTYPE=image/jpeg:https://cux-landfrauen.de/wp-content/uploads/2025/01/Weihnachtsfeier-a0d5fa13ce7a955d6fd6b1e7d1dd21fa.jpg
END:VEVENT
BEGIN:VEVENT
DTSTART;TZID=Europe/Berlin:20251210T150000
DTEND;TZID=Europe/Berlin:20251210T171500
DTSTAMP:20260423T220922
CREATED:20251128T101521Z
LAST-MODIFIED:20251128T101521Z
UID:9586-1765378800-1765386900@cux-landfrauen.de
SUMMARY:Handarbeitskurs
DESCRIPTION:Wir basteln für Weihnachten: Weihnachtssterne\, mit Transparentpapier und häkeln Anhänger wie Sterne\, Herzen …\nunter der Leitung mit Gertrud Wilkens-Ronnenberg. \nEine Anmeldung ist nicht nötig.
URL:https://cux-landfrauen.de/termin/handarbeitskurs-5/
LOCATION:OGH Ueterlande\, Oldenburger Straße 76\, Loxstedt-Ueterlande\, 27612\, Deutschland
CATEGORIES:Haus und Garten,LFV Landwürden
ATTACH;FMTTYPE=image/png:https://cux-landfrauen.de/wp-content/uploads/2021/11/lfv-event-versammlung.png
END:VEVENT
BEGIN:VEVENT
DTSTART;TZID=Europe/Berlin:20251211T143000
DTEND;TZID=Europe/Berlin:20251211T143000
DTSTAMP:20260423T220922
CREATED:20250111T114503Z
LAST-MODIFIED:20250111T114503Z
UID:8390-1765463400-1765463400@cux-landfrauen.de
SUMMARY:Adventsfeier der LandFrauen Land Wursten
DESCRIPTION:Gemütliches Kaffeetrinken im festlich geschmückten Alten Pastorenhaus.\nAnschließend präsentiert das Studio „Schwarzer Fisch“ das Beste aus dem Jahr 2025.\nWir lassen uns verzaubern von den schönsten Sagen und Erzählungen.\nKaffeegedeck: 15\,– € \nAnmeldung und Überweisung vom 30. Oktober bis\n27. November bei Britta Plötzky 04741 1397\nÜberweisung auf das LandFrauenkonto
URL:https://cux-landfrauen.de/termin/adventsfeier-der-landfrauen-land-wursten/
LOCATION:Altes Pastorenhaus Misselwarden\, Deutschland
CATEGORIES:LFV Land Wursten
ATTACH;FMTTYPE=image/jpeg:https://cux-landfrauen.de/wp-content/uploads/2025/01/1000021998-74d1b8d57e627eb7b7589e4c6930884b.jpg
END:VEVENT
BEGIN:VEVENT
DTSTART;TZID=Europe/Berlin:20251218T193000
DTEND;TZID=Europe/Berlin:20251218T220000
DTSTAMP:20260423T220922
CREATED:20250903T143133Z
LAST-MODIFIED:20250903T143133Z
UID:9248-1766086200-1766095200@cux-landfrauen.de
SUMMARY:Adventskonzert „Merry Christmas“
DESCRIPTION:Konzert des Philharmonischen Orchesters mit Beteiligung von Chören und Solisten. Klassische und internationale Weihnachtslieder sowie populäre Weihnachtshits. \nAnmeldungen: landfrauentheater@gmx.de\nFoto: Kristin Niemann
URL:https://cux-landfrauen.de/termin/adventskonzert-merry-christmas/
LOCATION:Stadttheater Bremerhaven\, Am Alten Hafen 25\, Bremerhaven\, 27568\, Deutschland
CATEGORIES:Kultur,LFV Land Wursten
ATTACH;FMTTYPE=image/jpeg:https://cux-landfrauen.de/wp-content/uploads/2025/08/Philharmonisches-Orchester-Bremerhaven_Foto_Kristin_Niemann_1920-7e3a04f2afe3d52334fdbf929332dc30.jpg
END:VEVENT
END:VCALENDAR