BEGIN:VCALENDAR
VERSION:2.0
PRODID:-//LandFrauen - ECPv6.15.20//NONSGML v1.0//EN
CALSCALE:GREGORIAN
METHOD:PUBLISH
X-WR-CALNAME:LandFrauen
X-ORIGINAL-URL:https://cux-landfrauen.de
X-WR-CALDESC:Veranstaltungen für LandFrauen
REFRESH-INTERVAL;VALUE=DURATION:PT1H
X-Robots-Tag:noindex
X-PUBLISHED-TTL:PT1H
BEGIN:VTIMEZONE
TZID:Europe/Berlin
BEGIN:DAYLIGHT
TZOFFSETFROM:+0100
TZOFFSETTO:+0200
TZNAME:CEST
DTSTART:20240331T010000
END:DAYLIGHT
BEGIN:STANDARD
TZOFFSETFROM:+0200
TZOFFSETTO:+0100
TZNAME:CET
DTSTART:20241027T010000
END:STANDARD
BEGIN:DAYLIGHT
TZOFFSETFROM:+0100
TZOFFSETTO:+0200
TZNAME:CEST
DTSTART:20250330T010000
END:DAYLIGHT
BEGIN:STANDARD
TZOFFSETFROM:+0200
TZOFFSETTO:+0100
TZNAME:CET
DTSTART:20251026T010000
END:STANDARD
BEGIN:DAYLIGHT
TZOFFSETFROM:+0100
TZOFFSETTO:+0200
TZNAME:CEST
DTSTART:20260329T010000
END:DAYLIGHT
BEGIN:STANDARD
TZOFFSETFROM:+0200
TZOFFSETTO:+0100
TZNAME:CET
DTSTART:20261025T010000
END:STANDARD
END:VTIMEZONE
BEGIN:VEVENT
DTSTART;TZID=Europe/Berlin:20250902T144500
DTEND;TZID=Europe/Berlin:20250902T210000
DTSTAMP:20260423T172151
CREATED:20250812T151327Z
LAST-MODIFIED:20250812T151327Z
UID:9228-1756824300-1756846800@cux-landfrauen.de
SUMMARY:Stadtrundfahrt Cuxhaven
DESCRIPTION:Cuxhaven ist eine Reise wert\, nicht nur für Touristen.\nWir wollen mit dem „Cuxliner“ eine Stadtrundfahrt machen.\nHaltestellen sind überall dort\, wo es etwas Schönes zu Sehen gibt (im Hafen\, Am Schloß Ritzebüttel oder am Kurpark in Döse).\nDie Tour beginnt und endet am Bahnhof\, dauert ca. 2 Stunden und wird\nbegleitet von einer geschulten Stadtführerin.\nNach Ende der Rundfahrt wollen wir gemeinsam essen im Unikat (a la cart).\nTermin: Dienstag\, 02.09.2025\, Abfahrt ca. 14.45 Uhr\nKosten: für den Cuxliner 15\,00 € \nDen Betrag nach Anmeldung bitte auf unser Vereinskonto überweisen.
URL:https://cux-landfrauen.de/termin/stadtrundfahrt-cuxhaven/
LOCATION:Cuxhaven\, Treffpunkt Bahnhof Cuxhaven\, Germany
CATEGORIES:Fahrten,LFV Krempel
ATTACH;FMTTYPE=image/png:https://cux-landfrauen.de/wp-content/uploads/2021/11/lfv-event-fahrten.png
END:VEVENT
BEGIN:VEVENT
DTSTART;TZID=Europe/Berlin:20250904T080000
DTEND;TZID=Europe/Berlin:20250907T183000
DTSTAMP:20260423T172151
CREATED:20250313T152717Z
LAST-MODIFIED:20250313T152717Z
UID:8745-1756972800-1757269800@cux-landfrauen.de
SUMMARY:Fahrradreise entlang der Hase & Ems
DESCRIPTION:Veranstaltung der LF Wersabe und Wulsbüttel: Busanreise mit Fahrradanhänger\, Radreiseleitung für die gesamte Tour. \nAm 1. Tag Radtour von Lathen nach Meppen\, ca 35 km auf dem Emsradweg. Besichtigung von Burg Landegge\, eines Mühlenmuseums \, der Stadt Haren\, Naturschutzgebiet Borkener Paradies.\n2. Tag: Rundtour Dalum Wietmarscher Moor\, ca. 60 km\, Fahrt durch das Naturschutzgebiet mit Besichtung des Fietzensalons in Twist\, der Kiek in Box eines Schweinstalls\, eines Milchviehbetriebes in Groß Hesepe\n3. Tag von Meppen nach Haselünne und zurück\, ca. 40 km entlang der Hase. Besichtigung von Bürgerhäusern und des Rathauses in Haselünne\, Besuch der Brennerei Berentzen und des Bauerngartens in Helte.\n4. Tag: von Meppen nach Nordhorn\, ca. 35 km entlang der Ems. 1-stündige Bootsfahrt auf der Vechte \nWeitere Infos: Sabine Tausch\, Tel.: 04702-3305970\, mobil: 0151-28190059 oder an\nGisela Wilken\, Tel.: 04296-663\, mobil: 0157-52139595
URL:https://cux-landfrauen.de/termin/fahrradreise-entlang-der-hase-ems/
CATEGORIES:Fahrten,LFV Wulsbüttel
ATTACH;FMTTYPE=image/png:https://cux-landfrauen.de/wp-content/uploads/2021/11/lfv-event-fahrten.png
END:VEVENT
BEGIN:VEVENT
DTSTART;TZID=Europe/Berlin:20250906T123000
DTEND;TZID=Europe/Berlin:20250906T210000
DTSTAMP:20260423T172151
CREATED:20250812T151131Z
LAST-MODIFIED:20250812T151131Z
UID:9225-1757161800-1757192400@cux-landfrauen.de
SUMMARY:Fahrradtour
DESCRIPTION:Ortsgruppe Bexhövede organiert diese Radtour.\nMit Kaffee und Kuchen und Abendessen\n15 €
URL:https://cux-landfrauen.de/termin/fahrradtour-3/
LOCATION:Bexhövede\, Treffpunkt „Nah und Gut“\, Germany
CATEGORIES:LFV Krempel
ATTACH;FMTTYPE=image/png:https://cux-landfrauen.de/wp-content/uploads/2021/11/lfv-event-fahrten.png
END:VEVENT
BEGIN:VEVENT
DTSTART;TZID=Europe/Berlin:20250911T091500
DTEND;TZID=Europe/Berlin:20250911T091500
DTSTAMP:20260423T172151
CREATED:20250722T174635Z
LAST-MODIFIED:20250722T174635Z
UID:9180-1757582100-1757582100@cux-landfrauen.de
SUMMARY:Fahrt zum Park der Schmetterlinge
DESCRIPTION:Am 11.09.25 fahren wir zum „Garten der Schmetterlinge“ nach Friedrichsruh bei Aumühle. Vorab werden wir in Wenzendorf auf dem „Hof Oelkers“ zum Mittagsbüfett\, bestehend aus Schnitzel\, Backfisch\, Pfannengemüse\, Bratkartoffeln\, etc. erwartet.\nDanach beginnt für uns eine spannende Reise durch die Welt exotischer Schmetterlinge und Pflanzen.\nWer möchte\, kann dort auch gemütlich Kaffee und Kuchen verzehren (nicht im Preis inbegriffen)\, bevor um 17.00 Uhr die Heimreise angetreten wird. \nKosten 75\,– Euro\nNichtmitglieder zahlen 15\,– Euro extra\nAnmeldung bis zum 08.08.25 bei Emmeli Puls Tel. 04745-6600 od. 0152/57278661 \nAbfahrten:\n09.20 Uhr\, Aldi\, Langen\n09.30 Uhr Am Markt\, Debstedt\n09.40 Uhr Tante Enso\, Drangstedt\n09.50 Uhr Moortherme\, Bad Bederkesa\n10.00 Uhr Gasthaus Roes\, Lintig
URL:https://cux-landfrauen.de/termin/fahrt-zum-park-der-schmetterlinge/
CATEGORIES:Fahrten,LFV Bederkesa
ATTACH;FMTTYPE=image/png:https://cux-landfrauen.de/wp-content/uploads/2021/11/lfv-event-fahrten.png
END:VEVENT
BEGIN:VEVENT
DTSTART;TZID=Europe/Berlin:20250911T150000
DTEND;TZID=Europe/Berlin:20250911T171500
DTSTAMP:20260423T172151
CREATED:20250910T152330Z
LAST-MODIFIED:20250910T152330Z
UID:9287-1757602800-1757610900@cux-landfrauen.de
SUMMARY:Kurs – Handarbeiten
DESCRIPTION:Kreatives Handarbeiten\, Makrameetechnik\, Windlichter mit Paketband behäkeln\, Restverwertung\, Nesteldecken für Personen mit Demenz\, Anhänger häkeln. \nReferentin: Gertrud Wilkens-Ronnenberg
URL:https://cux-landfrauen.de/termin/kurs-handarbeiten/
LOCATION:OGH Ueterlande\, Oldenburger Straße 76\, Loxstedt-Ueterlande\, 27612\, Deutschland
CATEGORIES:LFV Landwürden
ATTACH;FMTTYPE=image/png:https://cux-landfrauen.de/wp-content/uploads/2021/11/lfv-event-versammlung.png
END:VEVENT
BEGIN:VEVENT
DTSTART;TZID=Europe/Berlin:20250917T100000
DTEND;TZID=Europe/Berlin:20250917T121500
DTSTAMP:20260423T172151
CREATED:20250910T152027Z
LAST-MODIFIED:20250910T152027Z
UID:9283-1758103200-1758111300@cux-landfrauen.de
SUMMARY:„Rund ums Smartphone“
DESCRIPTION:Der Umgang mit dem Smartphone unter Anleitung. Einführung in die Grundlagen: Funktionen/Apps\, Fotografie\, Erläuterungen zu Sicherheitseinstellungen\, Erklärungen und Hilfestellungen zur\nNutzung mit Übungen. \nDer Kurs findet 6 x mittwochs alle 14 Tage bis zum 26.11.25 statt.\nAnmeldung bei Gisela Reipschläger unter 04740/1273
URL:https://cux-landfrauen.de/termin/rund-ums-smartphone/
LOCATION:OGH Ueterlande\, Oldenburger Straße 76\, Loxstedt-Ueterlande\, 27612\, Deutschland
CATEGORIES:LFV Landwürden
ATTACH;FMTTYPE=image/png:https://cux-landfrauen.de/wp-content/uploads/2021/11/lfv-event-vortrag.png
END:VEVENT
BEGIN:VEVENT
DTSTART;TZID=Europe/Berlin:20250918T140000
DTEND;TZID=Europe/Berlin:20250918T140000
DTSTAMP:20260423T172151
CREATED:20250903T143534Z
LAST-MODIFIED:20250903T143534Z
UID:9253-1758204000-1758204000@cux-landfrauen.de
SUMMARY:Waldbaden
DESCRIPTION:Unter Anleitung von Frau Schmidt werden wir einen Waldspaziergang machen und dabei die Achtsamkeit auf die Natur und unser Inneres lenken. \nAnmeldung ab 01.09.2025 unter 01523 4038927 (auch per WhatsApp)
URL:https://cux-landfrauen.de/termin/waldbaden-2/
LOCATION:Eichenholz\, Gnarrenburg\, Gnarrenburg\, Germany
CATEGORIES:LFV Beverstedt
ATTACH;FMTTYPE=image/png:https://cux-landfrauen.de/wp-content/uploads/2021/11/lfv-event-fahrten.png
END:VEVENT
BEGIN:VEVENT
DTSTART;TZID=Europe/Berlin:20250918T180000
DTEND;TZID=Europe/Berlin:20250918T180000
DTSTAMP:20260423T172151
CREATED:20250722T174451Z
LAST-MODIFIED:20250722T174451Z
UID:9177-1758218400-1758218400@cux-landfrauen.de
SUMMARY:Sternfahrradtour
DESCRIPTION:In diesem Jahr soll unsere Sternfahrradtour am 18.09.25 nach Alfstedt\, zum Hofladen von Britta Schriefer gehen. Dort wird es eine Verkostung von ihren hofeigenen Produkten geben. Treffen ist um 18.00 Uhr bei Familie Schriefer\, Möhlenhöpen 8\, in Alfstedt. \nKosten: 12\,– Euro\nAnmeldungen und Bezahlung bitte bis zum 10.09.25 bei den Ortsvertrauensfrauen.
URL:https://cux-landfrauen.de/termin/sternfahrradtour-4/
LOCATION:Alfstedt\, Alfstedt\, Germany
CATEGORIES:Fahrten,LFV Bederkesa
ATTACH;FMTTYPE=image/png:https://cux-landfrauen.de/wp-content/uploads/2021/11/lfv-event-fahrten.png
END:VEVENT
BEGIN:VEVENT
DTSTART;TZID=Europe/Berlin:20250918T190000
DTEND;TZID=Europe/Berlin:20250918T190000
DTSTAMP:20260423T172151
CREATED:20250111T113405Z
LAST-MODIFIED:20250111T113405Z
UID:8375-1758222000-1758222000@cux-landfrauen.de
SUMMARY:Ein Abend für Fischfans und Leseratten – LandFrauen Land Wursten
DESCRIPTION:Nach einem leckeren Fischbüfett stellt uns Frau Haag\, Buchhandlung Beek aus Langen\, Neuerscheinungen vor\, auch für Kinder.\nDaneben starten wir eine BuchTauschbörse: Jeder kann ein Buch oder mehrere Bücher zum Austauschen mitbringen.\nKosten: 28\,50 € \nAnmeldung vom 7. August bis 4. September\nbei Heide Picker 04741 7749\nÜberweisung auf das LandFrauenkonto
URL:https://cux-landfrauen.de/termin/ein-abend-fuer-fischfans-und-leseratten-landfrauen-land-wursten/
LOCATION:Landgasthof „Zum grünen Walde“\, Mühlenstraße 78\, Nordholz\, Germany
CATEGORIES:Kultur,LFV Land Wursten
ATTACH;FMTTYPE=image/jpeg:https://cux-landfrauen.de/wp-content/uploads/2025/01/1000023380-4e1ce9389766aa09a4c1d7a3d7b1caf9-scaled.jpg
END:VEVENT
BEGIN:VEVENT
DTSTART;TZID=Europe/Berlin:20250920T093000
DTEND;TZID=Europe/Berlin:20250920T123000
DTSTAMP:20260423T172151
CREATED:20250102T160745Z
LAST-MODIFIED:20250102T160745Z
UID:8223-1758360600-1758371400@cux-landfrauen.de
SUMMARY:Wechseljahre – Wer hat dich denn bestellt?
DESCRIPTION:Wechseljahre – Wer hat dich denn bestellt?\nmit Referentin Ute Mahler-Leddin \nWechseljahre – Was soll das? Hitzewallungen? Schlafstörungen? Gewichtszunahme? Stimmungsschwankungen?\nWas passiert in meinem Körper und wie kann ich in kleinen Schritten Großes bewirken? Dies und noch vieles mehr rund um die allseits bekannte weibliche Lebensphase wird uns Ute Mahler-Leddin in Ihrem Vortrag vermitteln. Vorab werden wir uns an unserem selbst zusammengestellten Frühstücksbuffet stärken. Jede/r Teilnehmende bringt etwas Leckeres dafür mit. \nWann: Samstag\, 20. September 2025\num 09:30 Uhr \nWo: Dorfgemeinschaftshaus Wittstedt\nOrtsstr. 8\, 27628 Wittstedt \nKosten 3\,00 € für Mitglieder\n10\,00 € für Nichtmitglieder\nKosten für Getränke (Kaffee\, Tee\, O-Saft\, A-Saft und Mineralwasser satt) \nAnmeldung: bis 13. September bei\nSimone Gerdes\, Tel. 0174/1718832\noder E-Mail: simone_gerdes@ewetel.net
URL:https://cux-landfrauen.de/termin/wechseljahre-wer-hat-dich-denn-bestellt/
LOCATION:Dorfgemeinschaftshaus Wittstedt\, Deutschland
CATEGORIES:LFV Bramstedt,Vorträge
ATTACH;FMTTYPE=image/jpeg:https://cux-landfrauen.de/wp-content/uploads/2025/01/Wechseljahre-18c6906b630deef319e46b4915fe5a34.jpg
END:VEVENT
BEGIN:VEVENT
DTSTART;TZID=Europe/Berlin:20250923T150000
DTEND;TZID=Europe/Berlin:20250923T150000
DTSTAMP:20260423T172151
CREATED:20250903T143718Z
LAST-MODIFIED:20250903T143718Z
UID:9256-1758639600-1758639600@cux-landfrauen.de
SUMMARY:„Erste Hilfe für Senioren“ bei Kaffee und Kuchen
DESCRIPTION:Frau Pallentin wird uns einen kleinen Einblick in die “Erste Hilfe” geben. Es werden viele wissenswerte Informationen vermittelt. \nAnmeldung ab 10.09.2025 auf dem Landfrauen-AB 0157 569 680 09
URL:https://cux-landfrauen.de/termin/erste-hilfe-fuer-senioren-bei-kaffee-und-kuchen/
LOCATION:Gemeindehaus Beverstedt\, Deutschland
CATEGORIES:LFV Beverstedt
ATTACH;FMTTYPE=image/png:https://cux-landfrauen.de/wp-content/uploads/2021/11/lfv-event-vortrag.png
END:VEVENT
BEGIN:VEVENT
DTSTART;TZID=Europe/Berlin:20250923T170000
DTEND;TZID=Europe/Berlin:20250923T210000
DTSTAMP:20260423T172151
CREATED:20250910T150652Z
LAST-MODIFIED:20250910T150652Z
UID:9266-1758646800-1758661200@cux-landfrauen.de
SUMMARY:Kochkurs – Französische Küche
DESCRIPTION:Wir kochen französisch. Menüfolge mit mindestens drei Gängen.\nRaffinierte Gerichte und hochwertige Zutaten. \nLeitung: Gertrud Wilkens-Ronnenberg\, Anmeldung bei Gisela Reipschläger unter Tel. 04740/1273
URL:https://cux-landfrauen.de/termin/kochkurs-franzoesische-kueche/
LOCATION:OGH Ueterlande\, Oldenburger Straße 76\, Loxstedt-Ueterlande\, 27612\, Deutschland
CATEGORIES:LFV Landwürden
ATTACH;FMTTYPE=image/png:https://cux-landfrauen.de/wp-content/uploads/2021/11/lfv-event-vortrag.png
END:VEVENT
BEGIN:VEVENT
DTSTART;TZID=Europe/Berlin:20250923T180000
DTEND;TZID=Europe/Berlin:20250923T203000
DTSTAMP:20260423T172151
CREATED:20250102T160956Z
LAST-MODIFIED:20250102T160956Z
UID:8225-1758650400-1758659400@cux-landfrauen.de
SUMMARY:Wir häkeln einen Schal
DESCRIPTION:Wir häkeln in gemütlicher Runde einen Schal mit Unterstützung von Claudia Brudna- Martens. Sie wird uns zeigen\, was Luftmaschen oder Stäbchen sind und was wir damit alles schönes machen können. Bitte das Garn vorher bei Frau Brudna-Martens (Hauptstraße 51\, 27616 Beverstedt/ Bokel) aussuchen. Häkelnadel mitbringen\, falls vorhanden\, damit wir gleich gemeinsam starten können. Ihr könnt sie aber auch bei Frau Brudna- Martens kaufen.\nDer Kursus besteht aus zwei Terminen: Dienstag\, 23. September und Dienstag\, 28. Oktober\, jeweils 2\,5 Stunden. \nWann: Dienstag\, 23. September 2025 und\nDienstag\, 28. Oktober 2025\num 18:00 Uhr ca. 2\,5 Stunden \nWo: Frau Brudna- Martens\nHauptstraße 51\, 27616 Beverstedt/ Bokel \nKosten: 33\,00 € für Mitglieder\n38\,00 € für Nichtmitglied\nWolle und Häkelnadeln sind nicht im Preis enthalten.\n(Den Betrag bitte bis zum 20.08. auf unser Hauptkonto einzahlen.) \nAnmeldung: bis zum 15. August bei\nSabine Münz\, Tel. 017684434867\noder E-Mail: sabinemuenz@ gmx.net
URL:https://cux-landfrauen.de/termin/wir-haekeln-einen-schal/
LOCATION:Frau Brudna-Martens\, Hauptstraße 51\, Beverstedt-Bokel\, 27616\, Germany
CATEGORIES:Haus und Garten,LFV Bramstedt
ATTACH;FMTTYPE=image/jpeg:https://cux-landfrauen.de/wp-content/uploads/2025/01/Schal-743e79e657cb8deeccb371c7e3aeefbd.jpg
END:VEVENT
BEGIN:VEVENT
DTSTART;TZID=Europe/Berlin:20250924T170000
DTEND;TZID=Europe/Berlin:20250924T210000
DTSTAMP:20260423T172151
CREATED:20250910T150837Z
LAST-MODIFIED:20250910T150837Z
UID:9268-1758733200-1758747600@cux-landfrauen.de
SUMMARY:Kochkurs – Französische Küche
DESCRIPTION:Wir kochen französisch. Raffinierte Gerichte und Menüfolge mit mindestens drei Gängen.\nTypische Spezialitäten und hochwertige Zutaten.
URL:https://cux-landfrauen.de/termin/kochkurs-franzoesische-kueche-2/
LOCATION:OGH Ueterlande\, Oldenburger Straße 76\, Loxstedt-Ueterlande\, 27612\, Deutschland
CATEGORIES:LFV Landwürden
ATTACH;FMTTYPE=image/png:https://cux-landfrauen.de/wp-content/uploads/2021/11/lfv-event-vortrag.png
END:VEVENT
BEGIN:VEVENT
DTSTART;TZID=Europe/Berlin:20250925T170000
DTEND;TZID=Europe/Berlin:20250925T200000
DTSTAMP:20260423T172151
CREATED:20250102T161215Z
LAST-MODIFIED:20250102T161215Z
UID:8228-1758819600-1758830400@cux-landfrauen.de
SUMMARY:Herbstliche Deko aus Raysin – Kursus 1
DESCRIPTION:Unter der Leitung von Annika Baranowski von „Anni`s Deko Liebe“\, arbeiten wir mit der wundervollen Keramikmasse Raysin und lassen herbstliche Deko entstehen. Von kleinen Häusern bis zum Kerzenständer sind viele Formen dabei\, ganz nach eurem Geschmack.\nDa wir eine große Nachfrage erwarten\, bieten wir zwei Termine an! \nWann: Donnerstag\, 25. September 2025\num 17:00 Uhr \nWo: Schießstand Finna und Umgebung\nFinnaerberg 8\,27628 Hagen im Bremischen \nKosten: 20\,00 € für Mitglieder\n28\,00 € für Nichtmitglieder\n(Den Betrag bitte bis zum 20.09. auf unser Hauptkonto einzahlen.) \nAnmeldung: bis 17. September bei\nDeike Twarloh Tel.047476/726796\noder E-Mail: deike.twarloh@gmx.de
URL:https://cux-landfrauen.de/termin/herbstliche-deko-aus-raysin-kursus-1/
LOCATION:Schießstand Finna und Umgebung\, Finnaerberg 8\, Hagen im Bremischen\, 27628\, Germany
CATEGORIES:Haus und Garten,LFV Bramstedt
ATTACH;FMTTYPE=image/jpeg:https://cux-landfrauen.de/wp-content/uploads/2025/01/Raysin-4544947c8413d63c26254ecc8ff03689.jpg
END:VEVENT
BEGIN:VEVENT
DTSTART;TZID=Europe/Berlin:20250926T170000
DTEND;TZID=Europe/Berlin:20250926T200000
DTSTAMP:20260423T172151
CREATED:20250102T161406Z
LAST-MODIFIED:20250102T161406Z
UID:8231-1758906000-1758916800@cux-landfrauen.de
SUMMARY:Herbstliche Deko aus Raysin – Kursus 2
DESCRIPTION:Unter der Leitung von Annika Baranowski von „Anni`s Deko Liebe“\, arbeiten wir mit der wundervollen Keramikmasse Raysin und lassen herbstliche Deko entstehen. Von kleinen Häusern bis zum Kerzenständer sind viele Formen dabei\, ganz nach eurem Geschmack.\nDa wir eine große Nachfrage erwarten\, bieten wir zwei Termine an! \nWann: Freitag\, 26. September 2025\num 17:00 Uhr \nWo: Schießstand Finna und Umgebung\nFinnaerberg 8\,27628 Hagen im Bremischen \nKosten: 20\,00 € für Mitglieder\n28\,00 € für Nichtmitglieder\n(Den Betrag bitte bis zum 20.09. auf unser Hauptkonto einzahlen.) \nAnmeldung: bis 17. September bei\nDeike Twarloh Tel.047476/726796\noder E-Mail: deike.twarloh@gmx.de
URL:https://cux-landfrauen.de/termin/herbstliche-deko-aus-raysin-kursus-2/
LOCATION:Schießstand Finna und Umgebung\, Finnaerberg 8\, Hagen im Bremischen\, 27628\, Germany
CATEGORIES:Haus und Garten,LFV Bramstedt
ATTACH;FMTTYPE=image/jpeg:https://cux-landfrauen.de/wp-content/uploads/2025/01/Raysin-e3896ee3d69d3853156cbca01189b8fd.jpg
END:VEVENT
BEGIN:VEVENT
DTSTART;TZID=Europe/Berlin:20250930T190000
DTEND;TZID=Europe/Berlin:20250930T190000
DTSTAMP:20260423T172151
CREATED:20250910T151023Z
LAST-MODIFIED:20250910T151023Z
UID:9270-1759258800-1759258800@cux-landfrauen.de
SUMMARY:Vortrag – Nahrungsergänzungsmittel
DESCRIPTION:Wie wichtig ist z.B. Vitamin D für das menschliche Immunsystem? Bedeutung und Wirksamkeit von Vitamin D für die Immunabwehr und den gesamten menschlichen Organismus.\nReferentin: Heilpraktikerin und Ökotrophologin Barbara Harms \nAnmeldung bei Gisela Reipschläger Tel. 04740/1273
URL:https://cux-landfrauen.de/termin/vortrag-nahrungsergaenzungsmittel/
LOCATION:Campsen\, Landwürder Straße 32\, Loxstedt-Dedesdorf\, 27612\, Deutschland
CATEGORIES:LFV Landwürden
ATTACH;FMTTYPE=image/png:https://cux-landfrauen.de/wp-content/uploads/2021/11/lfv-event-vortrag.png
END:VEVENT
END:VCALENDAR