BEGIN:VCALENDAR
VERSION:2.0
PRODID:-//LandFrauen - ECPv6.15.20//NONSGML v1.0//EN
CALSCALE:GREGORIAN
METHOD:PUBLISH
X-ORIGINAL-URL:https://cux-landfrauen.de
X-WR-CALDESC:Veranstaltungen für LandFrauen
REFRESH-INTERVAL;VALUE=DURATION:PT1H
X-Robots-Tag:noindex
X-PUBLISHED-TTL:PT1H
BEGIN:VTIMEZONE
TZID:Europe/Berlin
BEGIN:DAYLIGHT
TZOFFSETFROM:+0100
TZOFFSETTO:+0200
TZNAME:CEST
DTSTART:20240331T010000
END:DAYLIGHT
BEGIN:STANDARD
TZOFFSETFROM:+0200
TZOFFSETTO:+0100
TZNAME:CET
DTSTART:20241027T010000
END:STANDARD
BEGIN:DAYLIGHT
TZOFFSETFROM:+0100
TZOFFSETTO:+0200
TZNAME:CEST
DTSTART:20250330T010000
END:DAYLIGHT
BEGIN:STANDARD
TZOFFSETFROM:+0200
TZOFFSETTO:+0100
TZNAME:CET
DTSTART:20251026T010000
END:STANDARD
BEGIN:DAYLIGHT
TZOFFSETFROM:+0100
TZOFFSETTO:+0200
TZNAME:CEST
DTSTART:20260329T010000
END:DAYLIGHT
BEGIN:STANDARD
TZOFFSETFROM:+0200
TZOFFSETTO:+0100
TZNAME:CET
DTSTART:20261025T010000
END:STANDARD
END:VTIMEZONE
BEGIN:VEVENT
DTSTART;VALUE=DATE:20250803
DTEND;VALUE=DATE:20250808
DTSTAMP:20260423T154943
CREATED:20250308T095214Z
LAST-MODIFIED:20260117T125059Z
UID:8691-1754179200-1754611199@cux-landfrauen.de
SUMMARY:Mehrtagesfahrt ins Erzgebirge
DESCRIPTION:Geboten wird unter anderem eine Fahrt mit der Fichtelbahn sowie eine Schlösser- und Burgentour.
URL:https://cux-landfrauen.de/termin/mehrtagesfahrt-ins-erzgebirge/
LOCATION:Erzgebirge\, Germany
CATEGORIES:Fahrten,LFV Bederkesa
ATTACH;FMTTYPE=image/png:https://cux-landfrauen.de/wp-content/uploads/2021/11/lfv-event-fahrten.png
END:VEVENT
BEGIN:VEVENT
DTSTART;TZID=Europe/Berlin:20250804T180000
DTEND;TZID=Europe/Berlin:20250804T180000
DTSTAMP:20260423T154943
CREATED:20250524T112247Z
LAST-MODIFIED:20250524T112247Z
UID:9040-1754330400-1754330400@cux-landfrauen.de
SUMMARY:Mit den LandFrauen durch's Cuxland
DESCRIPTION:Wir fahren gemeinsam eine öffentliche Radtour\, die der LandFrauenverein Beverstedt für uns ausgearbeitet hat.\nKosten: 5\,– Euro \nEs wird keine Haftung übernommen und es wird kein Imbiss / Getränk gereicht.\nStart und Ziel: Marktplatz in Beverstedt
URL:https://cux-landfrauen.de/termin/mit-den-landfrauen-durchs-cuxland-3/
LOCATION:Marktplatz in Beverstedt\, Deutschland
CATEGORIES:Fahrten,Kreisverband,LFV Beverstedt
ATTACH;FMTTYPE=image/png:https://cux-landfrauen.de/wp-content/uploads/2021/11/lfv-event-fahrten.png
END:VEVENT
BEGIN:VEVENT
DTSTART;TZID=Europe/Berlin:20250819T190000
DTEND;TZID=Europe/Berlin:20250819T190000
DTSTAMP:20260423T154943
CREATED:20250722T173927Z
LAST-MODIFIED:20250722T173927Z
UID:9169-1755630000-1755630000@cux-landfrauen.de
SUMMARY:Küvers Grillabend
DESCRIPTION:Unser diesjähriger Grillabend findet in der Kührstedter Schützenhalle statt. Neben tollen Grillspezialitäten die uns Familie Küver und Team wieder zubereiten\, gibt es wie gewohnt leckere Salate von den Kührstedter Landfrauen.\nKosten: 22\,– € pro Person\nNichtmitglieder zahlen 15\,– € extra. \nAnmeldung und Bezahlung bitte bei den Ortsvertrauensfrauen bis zum 08.08.2025.
URL:https://cux-landfrauen.de/termin/kuevers-grillabend-2/
LOCATION:Kührstedter Schützenhalle\, Kührstedt\, Germany
CATEGORIES:LFV Bederkesa
ATTACH;FMTTYPE=image/png:https://cux-landfrauen.de/wp-content/uploads/2021/11/lfv-event-versammlung.png
END:VEVENT
BEGIN:VEVENT
DTSTART;TZID=Europe/Berlin:20250820T121500
DTEND;TZID=Europe/Berlin:20250820T121500
DTSTAMP:20260423T154943
CREATED:20250108T125403Z
LAST-MODIFIED:20250115T112250Z
UID:8293-1755692100-1755692100@cux-landfrauen.de
SUMMARY:Tagesausflug zur Schwebefähre Osten mit Ortsführung
DESCRIPTION:Busfahrt nach Osten mit Informationen zur Fähre und dem Ort vom Ortsheimatpfleger in historischer Tracht. Fahrt mit der Schwebefähre\, danach Kaffeetafel im Café Central.\nAbfahrt: 12.15 Uhr Nordholz Shell\, 12.30 Uhr Midlum Feuerwehr\, 12.45 Uhr Dorum Bhf. \nWeitere Informationen bei Dagmar Dulias 0151 20135440\nKosten 45\,– €\nAnmeldung und Überweisung vom 9. Juli bis zum 6. August\nper Mail: landfrauenreisen@web.de
URL:https://cux-landfrauen.de/termin/tagesausflug-zur-schwebefaehre-osten-mit-ortsfuehrung/
LOCATION:Osten\, Germany
CATEGORIES:Fahrten,LFV Land Wursten
ATTACH;FMTTYPE=image/jpeg:https://cux-landfrauen.de/wp-content/uploads/2025/01/Schwebefaehre_Osten_CC-@_Karl-Heinz_Brinkmann_IMG_20200610_212143215-scaled.jpg
END:VEVENT
BEGIN:VEVENT
DTSTART;TZID=Europe/Berlin:20250821T141500
DTEND;TZID=Europe/Berlin:20250821T143000
DTSTAMP:20260423T154943
CREATED:20250722T174232Z
LAST-MODIFIED:20250722T174305Z
UID:9175-1755785700-1755786600@cux-landfrauen.de
SUMMARY:Rund um den Karkturm
DESCRIPTION:Am 21.08.25 findet unsere beliebte Tour „Rund um den Karkturm“ statt. Diesmal führt uns die Fahrt nach Zeven und Tarmstedt. Frau Margret Börger wird uns\, wie gewohnt auf Platt\, die schöne Gegend näher bringen. Zum Abendbrotbüfett werden wir um 19.00 Uhr im Landgasthof Willenbrock in Kirchtimke erwartet. Danach treten wir die Heimreise an.\nAnmeldung bis zum 05.08.25 bei Emmeli Puls Tel. 04745/6600 od. 0152/57278661\nKosten: 45\,– Euro pro Person\nNichtmitglieder zahlen 15\,– Euro extra\nAbfahrten: 14.20 Uhr Aldi\, Langen \n14.30 Uhr Am Markt\, Debstedt\n14.40 Uhr Tante Enso\, Drangstedt\n14.50 Uhr Moortherme\, Bad Bedenkesa\n15.00 Uhr Gasthaus\, Roes Lintig
URL:https://cux-landfrauen.de/termin/rund-um-den-karkturm-2/
CATEGORIES:Fahrten,LFV Bederkesa
ATTACH;FMTTYPE=image/png:https://cux-landfrauen.de/wp-content/uploads/2021/11/lfv-event-fahrten.png
END:VEVENT
BEGIN:VEVENT
DTSTART;TZID=Europe/Berlin:20250830T090000
DTEND;TZID=Europe/Berlin:20250830T090000
DTSTAMP:20260423T154943
CREATED:20250722T174107Z
LAST-MODIFIED:20250722T175057Z
UID:9172-1756544400-1756544400@cux-landfrauen.de
SUMMARY:Landfrauenfahrradtour nach Otterndorf
DESCRIPTION:Unsere diesjährige Fahrradtour führt uns am 30.08.25 nach Otterndorf. Treffen wollen wir uns um 9.00 Uhr in Ihlienworth an der alten Meierei/ Landfrauenmarkt. Dann fahren wir gemeinsam mit dem Rad nach Otterndorf\, wo uns ein Frühstücksbüfett erwartet. Weiter geht es\, gut gestärkt\, durch Otterndorf und Umgebung\, bis wir wieder zurück nach Ihlienworth fahren\, um dort gemeinsam Kaffee und Kuchen zu genießen. \nKosten: 35\,– Euro\nAnmeldung bis zum 20.08.25 bei Emmeli Puls Tel. 04745/6600 od. 0152/57278661
URL:https://cux-landfrauen.de/termin/landfrauenfahrradtour-nach-otterndorf/
LOCATION:Otterndorf\, Otterndorf\, Germany
CATEGORIES:Fahrten,LFV Bederkesa
ATTACH;FMTTYPE=image/png:https://cux-landfrauen.de/wp-content/uploads/2021/11/lfv-event-fahrten.png
END:VEVENT
END:VCALENDAR