BEGIN:VCALENDAR
VERSION:2.0
PRODID:-//LandFrauen - ECPv6.15.20//NONSGML v1.0//EN
CALSCALE:GREGORIAN
METHOD:PUBLISH
X-ORIGINAL-URL:https://cux-landfrauen.de
X-WR-CALDESC:Veranstaltungen für LandFrauen
REFRESH-INTERVAL;VALUE=DURATION:PT1H
X-Robots-Tag:noindex
X-PUBLISHED-TTL:PT1H
BEGIN:VTIMEZONE
TZID:Europe/Berlin
BEGIN:DAYLIGHT
TZOFFSETFROM:+0100
TZOFFSETTO:+0200
TZNAME:CEST
DTSTART:20250330T010000
END:DAYLIGHT
BEGIN:STANDARD
TZOFFSETFROM:+0200
TZOFFSETTO:+0100
TZNAME:CET
DTSTART:20251026T010000
END:STANDARD
BEGIN:DAYLIGHT
TZOFFSETFROM:+0100
TZOFFSETTO:+0200
TZNAME:CEST
DTSTART:20260329T010000
END:DAYLIGHT
BEGIN:STANDARD
TZOFFSETFROM:+0200
TZOFFSETTO:+0100
TZNAME:CET
DTSTART:20261025T010000
END:STANDARD
BEGIN:DAYLIGHT
TZOFFSETFROM:+0100
TZOFFSETTO:+0200
TZNAME:CEST
DTSTART:20270328T010000
END:DAYLIGHT
BEGIN:STANDARD
TZOFFSETFROM:+0200
TZOFFSETTO:+0100
TZNAME:CET
DTSTART:20271031T010000
END:STANDARD
END:VTIMEZONE
BEGIN:VEVENT
DTSTART;TZID=Europe/Berlin:20260115T170000
DTEND;TZID=Europe/Berlin:20260205T170000
DTSTAMP:20260424T010937
CREATED:20251123T135359Z
LAST-MODIFIED:20251123T135359Z
UID:9528-1768496400-1770310800@cux-landfrauen.de
SUMMARY:Wenn das Smartphone spinnt
DESCRIPTION:Seid ihr es auch leid\, ständig jemanden um Rat zu fragen\, wenn es um das Smartphone geht? Dann ist dieser Kurs richtig für euch. Die Referentin Manuela Koop erklärt die wichtigsten Funktionen eines Smartphones. Kurs in vier Einheiten jeweils donnerstags von 17.00 Uhr – 19.15 Uhr\, maximal zehn Teilnehmer. \nAnmeldung ab 01.12.2025 unter 01523 403 8927
URL:https://cux-landfrauen.de/termin/wenn-das-smartphone-spinnt-2/
LOCATION:Marlies Schirmer\, Bördestraße 5\, Beverstedt\, Germany
CATEGORIES:LFV Beverstedt
ATTACH;FMTTYPE=image/png:https://cux-landfrauen.de/wp-content/uploads/2021/11/lfv-event-vortrag.png
END:VEVENT
BEGIN:VEVENT
DTSTART;TZID=Europe/Berlin:20260129T190000
DTEND;TZID=Europe/Berlin:20260129T213000
DTSTAMP:20260424T010937
CREATED:20251218T165720Z
LAST-MODIFIED:20251218T165720Z
UID:9726-1769713200-1769722200@cux-landfrauen.de
SUMMARY:Mitgliederversammlung
DESCRIPTION:Der Bericht/Rückblick sowohl auf das Jahr 2024 als auch auf 2025 steht an sowie einige Wahlen für einen neuen\, aktiven Vorstand. Zahlreiches Erscheinen wäre wünschenswert.\nDaneben gibt es wieder einen kleinen Imbiss. \nAbendimbiss: 12\,– € – vor Ort zu bezahlen.\nAnmeldung ab sofort und bis 15. Januar 2026 bei Dagmar Dulias unter 0151 20135440
URL:https://cux-landfrauen.de/termin/mitgliederversammlung-6/
LOCATION:Landgasthof „Zum grünen Walde“\, Mühlenstraße 78\, Nordholz\, Germany
CATEGORIES:LFV Land Wursten,Versammlung
ATTACH;FMTTYPE=image/jpeg:https://cux-landfrauen.de/wp-content/uploads/2025/12/crowd-2045499_640-6fd3ac658de9fe39ddcb59fa762e170c.jpg
END:VEVENT
BEGIN:VEVENT
DTSTART;TZID=Europe/Berlin:20260129T193000
DTEND;TZID=Europe/Berlin:20260129T193000
DTSTAMP:20260424T010937
CREATED:20251128T103034Z
LAST-MODIFIED:20251128T103034Z
UID:9604-1769715000-1769715000@cux-landfrauen.de
SUMMARY:Besuch des Stadttheaters Bremerhaven
DESCRIPTION:Im Kleinen Haus wollen wir das Stück „20.000 Meilen unter dem Meer“ sehen.\nNicht nur alle Frauen\, sondern auch die Ehemänner/Partner/Freunde sind herzlich zu diesem Theaterbesuch eingeladen.\nAnmeldung wird erbeten bis zum 10.01.2026
URL:https://cux-landfrauen.de/termin/besuch-des-stadttheaters-bremerhaven/
LOCATION:Stadttheater Bremerhaven\, Kleines Haus\, Am Alten Hafen 25\, Bremerhaven\, Germany
CATEGORIES:Kultur,LFV Krempel
ATTACH;FMTTYPE=image/png:https://cux-landfrauen.de/wp-content/uploads/2021/11/lfv-event-kultur.png
END:VEVENT
END:VCALENDAR