BEGIN:VCALENDAR
VERSION:2.0
PRODID:-//LandFrauen - ECPv6.15.20//NONSGML v1.0//EN
CALSCALE:GREGORIAN
METHOD:PUBLISH
X-WR-CALNAME:LandFrauen
X-ORIGINAL-URL:https://cux-landfrauen.de
X-WR-CALDESC:Veranstaltungen für LandFrauen
REFRESH-INTERVAL;VALUE=DURATION:PT1H
X-Robots-Tag:noindex
X-PUBLISHED-TTL:PT1H
BEGIN:VTIMEZONE
TZID:Europe/Berlin
BEGIN:DAYLIGHT
TZOFFSETFROM:+0100
TZOFFSETTO:+0200
TZNAME:CEST
DTSTART:20250330T010000
END:DAYLIGHT
BEGIN:STANDARD
TZOFFSETFROM:+0200
TZOFFSETTO:+0100
TZNAME:CET
DTSTART:20251026T010000
END:STANDARD
BEGIN:DAYLIGHT
TZOFFSETFROM:+0100
TZOFFSETTO:+0200
TZNAME:CEST
DTSTART:20260329T010000
END:DAYLIGHT
BEGIN:STANDARD
TZOFFSETFROM:+0200
TZOFFSETTO:+0100
TZNAME:CET
DTSTART:20261025T010000
END:STANDARD
BEGIN:DAYLIGHT
TZOFFSETFROM:+0100
TZOFFSETTO:+0200
TZNAME:CEST
DTSTART:20270328T010000
END:DAYLIGHT
BEGIN:STANDARD
TZOFFSETFROM:+0200
TZOFFSETTO:+0100
TZNAME:CET
DTSTART:20271031T010000
END:STANDARD
END:VTIMEZONE
BEGIN:VEVENT
DTSTART;TZID=Europe/Berlin:20260115T170000
DTEND;TZID=Europe/Berlin:20260205T170000
DTSTAMP:20260424T010440
CREATED:20251123T135359Z
LAST-MODIFIED:20251123T135359Z
UID:9528-1768496400-1770310800@cux-landfrauen.de
SUMMARY:Wenn das Smartphone spinnt
DESCRIPTION:Seid ihr es auch leid\, ständig jemanden um Rat zu fragen\, wenn es um das Smartphone geht? Dann ist dieser Kurs richtig für euch. Die Referentin Manuela Koop erklärt die wichtigsten Funktionen eines Smartphones. Kurs in vier Einheiten jeweils donnerstags von 17.00 Uhr – 19.15 Uhr\, maximal zehn Teilnehmer. \nAnmeldung ab 01.12.2025 unter 01523 403 8927
URL:https://cux-landfrauen.de/termin/wenn-das-smartphone-spinnt-2/
LOCATION:Marlies Schirmer\, Bördestraße 5\, Beverstedt\, Germany
CATEGORIES:LFV Beverstedt
ATTACH;FMTTYPE=image/png:https://cux-landfrauen.de/wp-content/uploads/2021/11/lfv-event-vortrag.png
END:VEVENT
BEGIN:VEVENT
DTSTART;TZID=Europe/Berlin:20260115T190000
DTEND;TZID=Europe/Berlin:20260115T214500
DTSTAMP:20260424T010440
CREATED:20260105T101024Z
LAST-MODIFIED:20260105T101024Z
UID:9907-1768503600-1768513500@cux-landfrauen.de
SUMMARY:Die verrückte Blase
DESCRIPTION:Zu diesem Thema wird Anja Brenner\, Urotherapeutin\, mit uns den Abend verbringen. Im Fokus stehen häufige\, aber oft tabuierte Beschwerden wie Reizblase\, Inkontinenz und andere Herausforderungen in verschiedenen Altersgruppen. Wir werden über Ursachen\, Behandlungsmöglichkeiten und alltägliche Tipps sprechen\, um das Thema unbeschwert anzugehen. Wir freuen uns auf einen regen Austausch und interessante Gespräche. Kommt vorbei und informiert euch\, um gut gerüstet für die eigenen Bedürfnisse zu sein. \nKosten: 5\,00 Euro inkl. Getränke; Gäste zahlen + 5 Euro für die Vereinskasse\nAnmeldung: Verbindlich bis 08.01.2026 bei Katrin Sudmann (04795 7855 oder 0151 22 96 0253)
URL:https://cux-landfrauen.de/termin/die-verrueckte-blase/
LOCATION:Dorfgemeinschaftshaus Hoope\, Hoope\, Germany
CATEGORIES:LFV Wulsbüttel,Vorträge
ATTACH;FMTTYPE=image/png:https://cux-landfrauen.de/wp-content/uploads/2021/11/lfv-event-vortrag.png
END:VEVENT
END:VCALENDAR