BEGIN:VCALENDAR
VERSION:2.0
PRODID:-//LandFrauen - ECPv6.15.20//NONSGML v1.0//EN
CALSCALE:GREGORIAN
METHOD:PUBLISH
X-WR-CALNAME:LandFrauen
X-ORIGINAL-URL:https://cux-landfrauen.de
X-WR-CALDESC:Veranstaltungen für LandFrauen
REFRESH-INTERVAL;VALUE=DURATION:PT1H
X-Robots-Tag:noindex
X-PUBLISHED-TTL:PT1H
BEGIN:VTIMEZONE
TZID:Europe/Berlin
BEGIN:DAYLIGHT
TZOFFSETFROM:+0100
TZOFFSETTO:+0200
TZNAME:CEST
DTSTART:20250330T010000
END:DAYLIGHT
BEGIN:STANDARD
TZOFFSETFROM:+0200
TZOFFSETTO:+0100
TZNAME:CET
DTSTART:20251026T010000
END:STANDARD
BEGIN:DAYLIGHT
TZOFFSETFROM:+0100
TZOFFSETTO:+0200
TZNAME:CEST
DTSTART:20260329T010000
END:DAYLIGHT
BEGIN:STANDARD
TZOFFSETFROM:+0200
TZOFFSETTO:+0100
TZNAME:CET
DTSTART:20261025T010000
END:STANDARD
BEGIN:DAYLIGHT
TZOFFSETFROM:+0100
TZOFFSETTO:+0200
TZNAME:CEST
DTSTART:20270328T010000
END:DAYLIGHT
BEGIN:STANDARD
TZOFFSETFROM:+0200
TZOFFSETTO:+0100
TZNAME:CET
DTSTART:20271031T010000
END:STANDARD
END:VTIMEZONE
BEGIN:VEVENT
DTSTART;TZID=Europe/Berlin:20260107T190000
DTEND;TZID=Europe/Berlin:20260107T190000
DTSTAMP:20260424T010313
CREATED:20251009T184150Z
LAST-MODIFIED:20251009T184150Z
UID:9472-1767812400-1767812400@cux-landfrauen.de
SUMMARY:Fit durch den Winter
DESCRIPTION:Wesentliche Voraussetzungen für Mobilität und sicheres Gehen im Alltag sind körperliche Fitness\, Kraft und Gleichgewicht. Während des Trainings mit Gerlind Baum werden genau diese wichtigen Bereiche durch geeignete Übungen gestärkt. \nKurs in 4 Einheiten jeweils mittwochs von 19.00 – 20.00 Uhr \nAnmeldung ab 01.12.2025 unter 01523 403 8927 (auch per WhatsApp)
URL:https://cux-landfrauen.de/termin/fit-durch-den-winter/
LOCATION:Feldhofhalle in Beverstedt\, Beverstedt\, Germany
CATEGORIES:LFV Beverstedt,Vorträge
ATTACH;FMTTYPE=image/png:https://cux-landfrauen.de/wp-content/uploads/2021/11/lfv-event-vortrag.png
END:VEVENT
END:VCALENDAR