BEGIN:VCALENDAR
VERSION:2.0
PRODID:-//LandFrauen - ECPv6.15.20//NONSGML v1.0//EN
CALSCALE:GREGORIAN
METHOD:PUBLISH
X-WR-CALNAME:LandFrauen
X-ORIGINAL-URL:https://cux-landfrauen.de
X-WR-CALDESC:Veranstaltungen für LandFrauen
REFRESH-INTERVAL;VALUE=DURATION:PT1H
X-Robots-Tag:noindex
X-PUBLISHED-TTL:PT1H
BEGIN:VTIMEZONE
TZID:Europe/Berlin
BEGIN:DAYLIGHT
TZOFFSETFROM:+0100
TZOFFSETTO:+0200
TZNAME:CEST
DTSTART:20240331T010000
END:DAYLIGHT
BEGIN:STANDARD
TZOFFSETFROM:+0200
TZOFFSETTO:+0100
TZNAME:CET
DTSTART:20241027T010000
END:STANDARD
BEGIN:DAYLIGHT
TZOFFSETFROM:+0100
TZOFFSETTO:+0200
TZNAME:CEST
DTSTART:20250330T010000
END:DAYLIGHT
BEGIN:STANDARD
TZOFFSETFROM:+0200
TZOFFSETTO:+0100
TZNAME:CET
DTSTART:20251026T010000
END:STANDARD
BEGIN:DAYLIGHT
TZOFFSETFROM:+0100
TZOFFSETTO:+0200
TZNAME:CEST
DTSTART:20260329T010000
END:DAYLIGHT
BEGIN:STANDARD
TZOFFSETFROM:+0200
TZOFFSETTO:+0100
TZNAME:CET
DTSTART:20261025T010000
END:STANDARD
END:VTIMEZONE
BEGIN:VEVENT
DTSTART;TZID=Europe/Berlin:20251130T080000
DTEND;TZID=Europe/Berlin:20251202T184500
DTSTAMP:20260423T220849
CREATED:20250216T114808Z
LAST-MODIFIED:20250312T173220Z
UID:8530-1764489600-1764701100@cux-landfrauen.de
SUMMARY:Adventsfahrt nach Thüringen
DESCRIPTION:Wir führen vom 30.11.2025 bis 02.12.2025 eine Adventsreise nach Thüringen durch. Die Reise führt uns nicht nur in die vorweihnachtlichen Städte Erfurt und Weimar\, sondern auch in die Weinregion Saale-Unstrut und der Rotkäppchen-Kellerei. Für diese Fahrt stehen noch Plätze zur Verfügung\, eine Anmeldung ist noch bis zum 15.04.2025 möglich. Nähere Informationen und die Anmeldung können alle interessierte Frauen unter folgender E-Mail: moin@landfrauen-krempel.de und 04745-7835458 vornehmen.
URL:https://cux-landfrauen.de/termin/adventsfahrt-nach-thueringen/
LOCATION:Weimar\, Erfurt\, Weinregion Saale-Untrut\, Weimar\, Germany
CATEGORIES:Fahrten,LFV Krempel
ATTACH;FMTTYPE=image/png:https://cux-landfrauen.de/wp-content/uploads/2021/11/lfv-event-fahrten.png
END:VEVENT
END:VCALENDAR