BEGIN:VCALENDAR
VERSION:2.0
PRODID:-//LandFrauen - ECPv6.15.20//NONSGML v1.0//EN
CALSCALE:GREGORIAN
METHOD:PUBLISH
X-ORIGINAL-URL:https://cux-landfrauen.de
X-WR-CALDESC:Veranstaltungen für LandFrauen
REFRESH-INTERVAL;VALUE=DURATION:PT1H
X-Robots-Tag:noindex
X-PUBLISHED-TTL:PT1H
BEGIN:VTIMEZONE
TZID:Europe/Berlin
BEGIN:DAYLIGHT
TZOFFSETFROM:+0100
TZOFFSETTO:+0200
TZNAME:CEST
DTSTART:20240331T010000
END:DAYLIGHT
BEGIN:STANDARD
TZOFFSETFROM:+0200
TZOFFSETTO:+0100
TZNAME:CET
DTSTART:20241027T010000
END:STANDARD
BEGIN:DAYLIGHT
TZOFFSETFROM:+0100
TZOFFSETTO:+0200
TZNAME:CEST
DTSTART:20250330T010000
END:DAYLIGHT
BEGIN:STANDARD
TZOFFSETFROM:+0200
TZOFFSETTO:+0100
TZNAME:CET
DTSTART:20251026T010000
END:STANDARD
BEGIN:DAYLIGHT
TZOFFSETFROM:+0100
TZOFFSETTO:+0200
TZNAME:CEST
DTSTART:20260329T010000
END:DAYLIGHT
BEGIN:STANDARD
TZOFFSETFROM:+0200
TZOFFSETTO:+0100
TZNAME:CET
DTSTART:20261025T010000
END:STANDARD
END:VTIMEZONE
BEGIN:VEVENT
DTSTART;TZID=Europe/Berlin:20251127T140000
DTEND;TZID=Europe/Berlin:20251127T140000
DTSTAMP:20260423T221456
CREATED:20250929T160456Z
LAST-MODIFIED:20250929T160456Z
UID:9406-1764252000-1764252000@cux-landfrauen.de
SUMMARY:Einfach Singen – Advents- und Weihnachtslieder
DESCRIPTION:Gemeinsam mit Ingrid Bullwinkel singen wir Advents- und Weihnachtslieder und stimmen uns auf die besinnliche Adventszeit ein. Natürlich dürfen ein paar Spekulatius eine Tasse Kaffee nicht fehlen. \nAnmeldung ab 14.11.2025 unter 0157 56968009 (Landfrauen-AB)
URL:https://cux-landfrauen.de/termin/einfach-singen-advents-und-weihnachtslieder/
LOCATION:Gemeindehaus Beverstedt\, Deutschland
CATEGORIES:Kultur,LFV Beverstedt
ATTACH;FMTTYPE=image/png:https://cux-landfrauen.de/wp-content/uploads/2021/11/lfv-event-versammlung.png
END:VEVENT
BEGIN:VEVENT
DTSTART;TZID=Europe/Berlin:20251127T190000
DTEND;TZID=Europe/Berlin:20251127T190000
DTSTAMP:20260423T221456
CREATED:20250929T155450Z
LAST-MODIFIED:20250929T155450Z
UID:9393-1764270000-1764270000@cux-landfrauen.de
SUMMARY:Weihnachtsdeko mit neuem Pepp
DESCRIPTION:Am Donnerstag\, den 27.11.25 möchten Marleen Peters und Birgit Stuhr\, mit euch wieder eure Weihnachtsdeko aufhübschen.\nOb Schalen\, Tabletts\, Gläser\, Kugeln\, Lichterketten\,etc. alles was euch gefällt kann mitgebracht werden und bekommt mit Materialien aus der Natur einen neuen Schick. Starten wollen wir um 19.00 Uhr bei Familie Wilshusen in Alfstedt auf der Diele. \nDie Teilnehmerzahl ist begrenzt. \nAnmeldung bis zum 20.11.25 bei Birgit Stuhr Tel.04745/783569 oder Whats App 01718114167.\nKosten: 25\,- Euro\, Nichtmitglieder zahlen 15 \,- Euro extra.
URL:https://cux-landfrauen.de/termin/weihnachtsdeko-mit-neuem-pepp/
LOCATION:Alfstedt\, Alfstedt\, Germany
CATEGORIES:Haus und Garten,LFV Bederkesa
ATTACH;FMTTYPE=image/png:https://cux-landfrauen.de/wp-content/uploads/2021/11/lfv-event-haus-garten.png
END:VEVENT
END:VCALENDAR