BEGIN:VCALENDAR
VERSION:2.0
PRODID:-//LandFrauen - ECPv6.15.20//NONSGML v1.0//EN
CALSCALE:GREGORIAN
METHOD:PUBLISH
X-WR-CALNAME:LandFrauen
X-ORIGINAL-URL:https://cux-landfrauen.de
X-WR-CALDESC:Veranstaltungen für LandFrauen
REFRESH-INTERVAL;VALUE=DURATION:PT1H
X-Robots-Tag:noindex
X-PUBLISHED-TTL:PT1H
BEGIN:VTIMEZONE
TZID:Europe/Berlin
BEGIN:DAYLIGHT
TZOFFSETFROM:+0100
TZOFFSETTO:+0200
TZNAME:CEST
DTSTART:20240331T010000
END:DAYLIGHT
BEGIN:STANDARD
TZOFFSETFROM:+0200
TZOFFSETTO:+0100
TZNAME:CET
DTSTART:20241027T010000
END:STANDARD
BEGIN:DAYLIGHT
TZOFFSETFROM:+0100
TZOFFSETTO:+0200
TZNAME:CEST
DTSTART:20250330T010000
END:DAYLIGHT
BEGIN:STANDARD
TZOFFSETFROM:+0200
TZOFFSETTO:+0100
TZNAME:CET
DTSTART:20251026T010000
END:STANDARD
BEGIN:DAYLIGHT
TZOFFSETFROM:+0100
TZOFFSETTO:+0200
TZNAME:CEST
DTSTART:20260329T010000
END:DAYLIGHT
BEGIN:STANDARD
TZOFFSETFROM:+0200
TZOFFSETTO:+0100
TZNAME:CET
DTSTART:20261025T010000
END:STANDARD
END:VTIMEZONE
BEGIN:VEVENT
DTSTART;TZID=Europe/Berlin:20251117T190000
DTEND;TZID=Europe/Berlin:20251117T190000
DTSTAMP:20260423T220813
CREATED:20250111T114200Z
LAST-MODIFIED:20250115T112141Z
UID:8385-1763406000-1763406000@cux-landfrauen.de
SUMMARY:Lichtblumen – Workshop der LandFrauen Land Wursten
DESCRIPTION:Wir fertigen mit LandFrau Karin Puckhaber wunderschöne Windlichtblumen aus finnischem Papiergarn an. Dabei wird dieses besondere Papier aufwendig zu einer filigranen Blume kreiert.\nKurskosten 7\,50 € plus Material \nAnmeldung und Überweisung vom 6. Okt. bis 3. November\nunter 0174 6550 634 oder Mail: lfv-landwursten@web.de
URL:https://cux-landfrauen.de/termin/lichtblumen-workshop-der-landfrauen-land-wursten/
LOCATION:Arche Midlum\, Kirchpfad 3\, Midlum\, Germany
CATEGORIES:Haus und Garten,LFV Land Wursten
ATTACH;FMTTYPE=image/jpeg:https://cux-landfrauen.de/wp-content/uploads/2025/01/LichtblumenNEU.jpg
END:VEVENT
END:VCALENDAR