BEGIN:VCALENDAR
VERSION:2.0
PRODID:-//LandFrauen - ECPv6.15.20//NONSGML v1.0//EN
CALSCALE:GREGORIAN
METHOD:PUBLISH
X-ORIGINAL-URL:https://cux-landfrauen.de
X-WR-CALDESC:Veranstaltungen für LandFrauen
REFRESH-INTERVAL;VALUE=DURATION:PT1H
X-Robots-Tag:noindex
X-PUBLISHED-TTL:PT1H
BEGIN:VTIMEZONE
TZID:Europe/Berlin
BEGIN:DAYLIGHT
TZOFFSETFROM:+0100
TZOFFSETTO:+0200
TZNAME:CEST
DTSTART:20240331T010000
END:DAYLIGHT
BEGIN:STANDARD
TZOFFSETFROM:+0200
TZOFFSETTO:+0100
TZNAME:CET
DTSTART:20241027T010000
END:STANDARD
BEGIN:DAYLIGHT
TZOFFSETFROM:+0100
TZOFFSETTO:+0200
TZNAME:CEST
DTSTART:20250330T010000
END:DAYLIGHT
BEGIN:STANDARD
TZOFFSETFROM:+0200
TZOFFSETTO:+0100
TZNAME:CET
DTSTART:20251026T010000
END:STANDARD
BEGIN:DAYLIGHT
TZOFFSETFROM:+0100
TZOFFSETTO:+0200
TZNAME:CEST
DTSTART:20260329T010000
END:DAYLIGHT
BEGIN:STANDARD
TZOFFSETFROM:+0200
TZOFFSETTO:+0100
TZNAME:CET
DTSTART:20261025T010000
END:STANDARD
END:VTIMEZONE
BEGIN:VEVENT
DTSTART;TZID=Europe/Berlin:20251113T180000
DTEND;TZID=Europe/Berlin:20251113T180000
DTSTAMP:20260423T221457
CREATED:20250929T160134Z
LAST-MODIFIED:20250929T160134Z
UID:9402-1763056800-1763056800@cux-landfrauen.de
SUMMARY:Winterliche Deko aus Naturmaterialien und Lichterkette
DESCRIPTION:Unter der Anleitung von Frau Hartmann-Albrecht werden winterliche Dekorationen aus Naturmaterialien gestaltet. Es können auch Lichterketten eingearbeitet werden. \nAnmeldung ab 27.10.2025 bei Frau Hartmann-Albrecht\, 0175 2102572
URL:https://cux-landfrauen.de/termin/winterliche-deko-aus-naturmaterialien-und-lichterkette/
LOCATION:DRK Gebäude in Lunestedt\, Am Dörphuus 13\, Germany
CATEGORIES:Haus und Garten,LFV Beverstedt
ATTACH;FMTTYPE=image/png:https://cux-landfrauen.de/wp-content/uploads/2021/11/lfv-event-haus-garten.png
END:VEVENT
END:VCALENDAR