BEGIN:VCALENDAR
VERSION:2.0
PRODID:-//LandFrauen - ECPv6.15.20//NONSGML v1.0//EN
CALSCALE:GREGORIAN
METHOD:PUBLISH
X-WR-CALNAME:LandFrauen
X-ORIGINAL-URL:https://cux-landfrauen.de
X-WR-CALDESC:Veranstaltungen für LandFrauen
REFRESH-INTERVAL;VALUE=DURATION:PT1H
X-Robots-Tag:noindex
X-PUBLISHED-TTL:PT1H
BEGIN:VTIMEZONE
TZID:Europe/Berlin
BEGIN:DAYLIGHT
TZOFFSETFROM:+0100
TZOFFSETTO:+0200
TZNAME:CEST
DTSTART:20240331T010000
END:DAYLIGHT
BEGIN:STANDARD
TZOFFSETFROM:+0200
TZOFFSETTO:+0100
TZNAME:CET
DTSTART:20241027T010000
END:STANDARD
BEGIN:DAYLIGHT
TZOFFSETFROM:+0100
TZOFFSETTO:+0200
TZNAME:CEST
DTSTART:20250330T010000
END:DAYLIGHT
BEGIN:STANDARD
TZOFFSETFROM:+0200
TZOFFSETTO:+0100
TZNAME:CET
DTSTART:20251026T010000
END:STANDARD
BEGIN:DAYLIGHT
TZOFFSETFROM:+0100
TZOFFSETTO:+0200
TZNAME:CEST
DTSTART:20260329T010000
END:DAYLIGHT
BEGIN:STANDARD
TZOFFSETFROM:+0200
TZOFFSETTO:+0100
TZNAME:CET
DTSTART:20261025T010000
END:STANDARD
END:VTIMEZONE
BEGIN:VEVENT
DTSTART;TZID=Europe/Berlin:20251108T100000
DTEND;TZID=Europe/Berlin:20251108T100000
DTSTAMP:20260423T220719
CREATED:20251005T113829Z
LAST-MODIFIED:20251005T113829Z
UID:9413-1762596000-1762596000@cux-landfrauen.de
SUMMARY:Besichtigung der Feuerwehrleitstelle Bremerhaven
DESCRIPTION:Wir schauen uns bei der Feuerwehrleitstelle in Bremerhaven an\, was alles in Bewegung gesetzt wird\, wenn wir die 112 anrufen. Es findet eine zweistündige Führung statt. Im Anschluss nehmen wir ein gemeinsames Mittagessen in der Strandhalle ein.
URL:https://cux-landfrauen.de/termin/besichtigung-der-feuerwehrleitstelle-bremerhaven/
LOCATION:Bremerhavener Berufsfeuerwehr\, Zur Hexenbrücke 12\, Bremerhaven\, 27570\, Deutschland
CATEGORIES:LFV Bramstedt
ATTACH;FMTTYPE=image/jpeg:https://cux-landfrauen.de/wp-content/uploads/2025/10/Feuerwehr-7e8737a892a33d7dcb75f9aa8cb7eaf2.jpg
END:VEVENT
END:VCALENDAR