BEGIN:VCALENDAR
VERSION:2.0
PRODID:-//LandFrauen - ECPv6.15.20//NONSGML v1.0//EN
CALSCALE:GREGORIAN
METHOD:PUBLISH
X-WR-CALNAME:LandFrauen
X-ORIGINAL-URL:https://cux-landfrauen.de
X-WR-CALDESC:Veranstaltungen für LandFrauen
REFRESH-INTERVAL;VALUE=DURATION:PT1H
X-Robots-Tag:noindex
X-PUBLISHED-TTL:PT1H
BEGIN:VTIMEZONE
TZID:Europe/Berlin
BEGIN:DAYLIGHT
TZOFFSETFROM:+0100
TZOFFSETTO:+0200
TZNAME:CEST
DTSTART:20240331T010000
END:DAYLIGHT
BEGIN:STANDARD
TZOFFSETFROM:+0200
TZOFFSETTO:+0100
TZNAME:CET
DTSTART:20241027T010000
END:STANDARD
BEGIN:DAYLIGHT
TZOFFSETFROM:+0100
TZOFFSETTO:+0200
TZNAME:CEST
DTSTART:20250330T010000
END:DAYLIGHT
BEGIN:STANDARD
TZOFFSETFROM:+0200
TZOFFSETTO:+0100
TZNAME:CET
DTSTART:20251026T010000
END:STANDARD
BEGIN:DAYLIGHT
TZOFFSETFROM:+0100
TZOFFSETTO:+0200
TZNAME:CEST
DTSTART:20260329T010000
END:DAYLIGHT
BEGIN:STANDARD
TZOFFSETFROM:+0200
TZOFFSETTO:+0100
TZNAME:CET
DTSTART:20261025T010000
END:STANDARD
END:VTIMEZONE
BEGIN:VEVENT
DTSTART;TZID=Europe/Berlin:20251105T190000
DTEND;TZID=Europe/Berlin:20251105T213000
DTSTAMP:20260423T220848
CREATED:20250102T162147Z
LAST-MODIFIED:20250102T162147Z
UID:8241-1762369200-1762378200@cux-landfrauen.de
SUMMARY:Kinoabend
DESCRIPTION:Dieses Jahr lassen wir uns nicht in die Karten gucken! Lesst euch einfach mal überraschen! Ihr könnt sicher sein\, dass wir einen ganz wunderbaren Film für euch aussuchen werden. Genießt den Abend mit netten LandFrauen und einem Gläschen Sekt. Was kann es Schöneres geben? \nWann: Mittwoch\, 05. November 2025\num 19:00 Uhr \nWo: Kino Schwanewede\nAm Markt 54\n28790 Schwanewede \nKosten: 15\,00 € für Mitglieder\n20\,00 € für Nichtmitglieder\n(Den Betrag bitte vor Ort bezahlen.) \nAnmeldung: bis 29. Oktober bei\nMichaela Lohaus\, Tel.: 04748/3199\nE-Mail: michaela.lohaus@ewetel.net
URL:https://cux-landfrauen.de/termin/kinoabend-6/
LOCATION:Kino Schwanewede\, Am Markt 54\, Schwanewede\, 28790\, Germany
CATEGORIES:Kultur,LFV Bramstedt
ATTACH;FMTTYPE=image/jpeg:https://cux-landfrauen.de/wp-content/uploads/2025/01/Kino-e41994e6086f9ff3ff2a709848b2c8f8.jpg
END:VEVENT
BEGIN:VEVENT
DTSTART;TZID=Europe/Berlin:20251105T193000
DTEND;TZID=Europe/Berlin:20251105T193000
DTSTAMP:20260423T220848
CREATED:20250920T081824Z
LAST-MODIFIED:20250920T081824Z
UID:9366-1762371000-1762371000@cux-landfrauen.de
SUMMARY:Kino in Schwanewede
DESCRIPTION:Der Filmpalast Schwanewede präsentiert uns den Film „Eine Million Minuten“ und wird uns mit einem Glas Sekt und Knabbereien empfangen. Filmstart 19.30 Uhr. \nAnmeldung vom 22. – 31.10.2025 unter 04747 8153 oder 0162 7649662 (auch per WhatsApp)
URL:https://cux-landfrauen.de/termin/kino-in-schwanewede-4/
LOCATION:Wir bilden Fahrgemeinschaften und treffen uns um 18.15 Uhr am Marktplatz in Beverstedt.\, Germany
CATEGORIES:Kultur,LFV Beverstedt
ATTACH;FMTTYPE=image/png:https://cux-landfrauen.de/wp-content/uploads/2021/11/lfv-event-kultur.png
END:VEVENT
END:VCALENDAR