BEGIN:VCALENDAR
VERSION:2.0
PRODID:-//LandFrauen - ECPv6.15.20//NONSGML v1.0//EN
CALSCALE:GREGORIAN
METHOD:PUBLISH
X-WR-CALNAME:LandFrauen
X-ORIGINAL-URL:https://cux-landfrauen.de
X-WR-CALDESC:Veranstaltungen für LandFrauen
REFRESH-INTERVAL;VALUE=DURATION:PT1H
X-Robots-Tag:noindex
X-PUBLISHED-TTL:PT1H
BEGIN:VTIMEZONE
TZID:Europe/Berlin
BEGIN:DAYLIGHT
TZOFFSETFROM:+0100
TZOFFSETTO:+0200
TZNAME:CEST
DTSTART:20240331T010000
END:DAYLIGHT
BEGIN:STANDARD
TZOFFSETFROM:+0200
TZOFFSETTO:+0100
TZNAME:CET
DTSTART:20241027T010000
END:STANDARD
BEGIN:DAYLIGHT
TZOFFSETFROM:+0100
TZOFFSETTO:+0200
TZNAME:CEST
DTSTART:20250330T010000
END:DAYLIGHT
BEGIN:STANDARD
TZOFFSETFROM:+0200
TZOFFSETTO:+0100
TZNAME:CET
DTSTART:20251026T010000
END:STANDARD
BEGIN:DAYLIGHT
TZOFFSETFROM:+0100
TZOFFSETTO:+0200
TZNAME:CEST
DTSTART:20260329T010000
END:DAYLIGHT
BEGIN:STANDARD
TZOFFSETFROM:+0200
TZOFFSETTO:+0100
TZNAME:CET
DTSTART:20261025T010000
END:STANDARD
END:VTIMEZONE
BEGIN:VEVENT
DTSTART;TZID=Europe/Berlin:20251104T190000
DTEND;TZID=Europe/Berlin:20251104T190000
DTSTAMP:20260423T220811
CREATED:20251022T122050Z
LAST-MODIFIED:20251022T122050Z
UID:9493-1762282800-1762282800@cux-landfrauen.de
SUMMARY:Die Geschichte des Lebens- vom Urknall durch Zeit und Raum bis heute
DESCRIPTION:Vortrag von Prof. Dr. rer. nat. Marcus Baumann\, Biotechnologe und Forscher.\nNach der Geburt unseres Sonnensystems hat die Entwicklung des Lebens auf der Erde bis in unsere heutige Zeit große Herausforderungen bewältigt. Obwohl Katastrophen von weltweitem Ausmaß bereits 5 mal das Leben auf unserem Planeten fast ausgelöscht haben\, hat sich die Erde immer wieder erholt.\nHeute bevölkern mehr als 8 Milliarden Menschen den blauen Planeten und müssen sich mit allen anderen Lebewesen die Ressourcen der Erde teilen.\nDer Vortrag beleuchtet die wichtigsten Entwicklungsschritte vom ersten Einzeller bis zur aktuellen Vielfalt der Lebewesen und wagt einen Ausblick in die Zukunft.
URL:https://cux-landfrauen.de/termin/die-geschichte-des-lebens-vom-urknall-durch-zeit-und-raum-bis-heute/
LOCATION:Kulturzentrum Alte Schule\, Fleester Straße 2\, Loxstedt\, 27612\, Germany
CATEGORIES:LFV Stotel
ATTACH;FMTTYPE=image/png:https://cux-landfrauen.de/wp-content/uploads/2025/10/Bildschirmfoto-2025-10-16-um-11.57.17-29a1a601776c43eaf26f73ad51e09fbb.png
END:VEVENT
END:VCALENDAR