BEGIN:VCALENDAR
VERSION:2.0
PRODID:-//LandFrauen - ECPv6.15.20//NONSGML v1.0//EN
CALSCALE:GREGORIAN
METHOD:PUBLISH
X-WR-CALNAME:LandFrauen
X-ORIGINAL-URL:https://cux-landfrauen.de
X-WR-CALDESC:Veranstaltungen für LandFrauen
REFRESH-INTERVAL;VALUE=DURATION:PT1H
X-Robots-Tag:noindex
X-PUBLISHED-TTL:PT1H
BEGIN:VTIMEZONE
TZID:Europe/Berlin
BEGIN:DAYLIGHT
TZOFFSETFROM:+0100
TZOFFSETTO:+0200
TZNAME:CEST
DTSTART:20240331T010000
END:DAYLIGHT
BEGIN:STANDARD
TZOFFSETFROM:+0200
TZOFFSETTO:+0100
TZNAME:CET
DTSTART:20241027T010000
END:STANDARD
BEGIN:DAYLIGHT
TZOFFSETFROM:+0100
TZOFFSETTO:+0200
TZNAME:CEST
DTSTART:20250330T010000
END:DAYLIGHT
BEGIN:STANDARD
TZOFFSETFROM:+0200
TZOFFSETTO:+0100
TZNAME:CET
DTSTART:20251026T010000
END:STANDARD
BEGIN:DAYLIGHT
TZOFFSETFROM:+0100
TZOFFSETTO:+0200
TZNAME:CEST
DTSTART:20260329T010000
END:DAYLIGHT
BEGIN:STANDARD
TZOFFSETFROM:+0200
TZOFFSETTO:+0100
TZNAME:CET
DTSTART:20261025T010000
END:STANDARD
END:VTIMEZONE
BEGIN:VEVENT
DTSTART;TZID=Europe/Berlin:20251101T100000
DTEND;TZID=Europe/Berlin:20251101T100000
DTSTAMP:20260423T203722
CREATED:20250920T081617Z
LAST-MODIFIED:20250920T081617Z
UID:9362-1761991200-1761991200@cux-landfrauen.de
SUMMARY:Winterzauber Herrenhäuser Gärten in Hannover
DESCRIPTION:Tagesfahrt nach Hannover. Ein erster Hauch von Weihnachten! Beim Duft von Pfefferkuchen und Punsch verwandeln sich der stolze Ehrenhof des Schlosses und die prächtige Allee davor zu einer märchenhaften Bühne für den vorweihnachtlichen Markt. 130 Aussteller erwarten die Besucher mit einem liebevollen Angebot. \nAnmeldung ab 15.09.2025 unter 04747 8487\nKosten bitte nach Anmeldung auf das Reisekonto überweisen\, Stichwort „Winterzauber“
URL:https://cux-landfrauen.de/termin/winterzauber-herrenhaeuser-gaerten-in-hannover/
LOCATION:Abfahrt um 10.00 Uhr am Schulzentrum Beverstedt\, Beverstedt\, Germany
CATEGORIES:Fahrten,LFV Beverstedt
ATTACH;FMTTYPE=image/png:https://cux-landfrauen.de/wp-content/uploads/2021/11/lfv-event-fahrten.png
END:VEVENT
BEGIN:VEVENT
DTSTART;TZID=Europe/Berlin:20251101T140000
DTEND;TZID=Europe/Berlin:20251101T140000
DTSTAMP:20260423T203722
CREATED:20250929T155120Z
LAST-MODIFIED:20250929T155120Z
UID:9389-1762005600-1762005600@cux-landfrauen.de
SUMMARY:Besichtigung der Berufsfeuerwehr
DESCRIPTION:Am Samstag\, den 01.11.25 besichtigen wir die Berufsfeuerwehr in Bremerhaven.\nWir werden einen Einblick in den Berufsalltag und den Abläufen der Feuerwehr bekommen. Treffen wollen wir uns um 13.30 Uhr auf dem Parkplatz an der Feuerwache\, Hexenbrücke 12\, in Bremerhaven. Die Besichtigung beginnt um 14.00 Uhr. \nKosten 5\,- Euro (werden vor Ort eingesammelt)\, Nichtmitglieder zahlen 15\,- Euro extra\nAnmeldung bis zum 24.10.25 bei Hilde Wesemann Tel. 04704/1339 od. WhatsApp 01748053699
URL:https://cux-landfrauen.de/termin/besichtigung-der-berufsfeuerwehr/
LOCATION:Bremerhavener Berufsfeuerwehr\, Zur Hexenbrücke 12\, Bremerhaven\, 27570\, Deutschland
CATEGORIES:Fahrten,LFV Bederkesa
ATTACH;FMTTYPE=image/png:https://cux-landfrauen.de/wp-content/uploads/2021/11/lfv-event-fahrten.png
END:VEVENT
END:VCALENDAR