BEGIN:VCALENDAR
VERSION:2.0
PRODID:-//LandFrauen - ECPv6.15.20//NONSGML v1.0//EN
CALSCALE:GREGORIAN
METHOD:PUBLISH
X-WR-CALNAME:LandFrauen
X-ORIGINAL-URL:https://cux-landfrauen.de
X-WR-CALDESC:Veranstaltungen für LandFrauen
REFRESH-INTERVAL;VALUE=DURATION:PT1H
X-Robots-Tag:noindex
X-PUBLISHED-TTL:PT1H
BEGIN:VTIMEZONE
TZID:Europe/Berlin
BEGIN:DAYLIGHT
TZOFFSETFROM:+0100
TZOFFSETTO:+0200
TZNAME:CEST
DTSTART:20240331T010000
END:DAYLIGHT
BEGIN:STANDARD
TZOFFSETFROM:+0200
TZOFFSETTO:+0100
TZNAME:CET
DTSTART:20241027T010000
END:STANDARD
BEGIN:DAYLIGHT
TZOFFSETFROM:+0100
TZOFFSETTO:+0200
TZNAME:CEST
DTSTART:20250330T010000
END:DAYLIGHT
BEGIN:STANDARD
TZOFFSETFROM:+0200
TZOFFSETTO:+0100
TZNAME:CET
DTSTART:20251026T010000
END:STANDARD
BEGIN:DAYLIGHT
TZOFFSETFROM:+0100
TZOFFSETTO:+0200
TZNAME:CEST
DTSTART:20260329T010000
END:DAYLIGHT
BEGIN:STANDARD
TZOFFSETFROM:+0200
TZOFFSETTO:+0100
TZNAME:CET
DTSTART:20261025T010000
END:STANDARD
END:VTIMEZONE
BEGIN:VEVENT
DTSTART;TZID=Europe/Berlin:20251024T150000
DTEND;TZID=Europe/Berlin:20251024T180000
DTSTAMP:20260423T203724
CREATED:20250102T161941Z
LAST-MODIFIED:20250102T161941Z
UID:8239-1761318000-1761328800@cux-landfrauen.de
SUMMARY:Klön-Nachmittag
DESCRIPTION:Einfach nur mal klönen. Unter diesem Motto wollen wir uns bei selbstgemachten Torten\, Kuchen und Kaffee einen schönen Nachmittag machen. Es gibt sicher einiges zu erzählen. Da der Zugang barrierefrei ist\, kann wirklich jeder an dem „Klönsnack“ teilnehmen. Schnell sein lohnt sich\, die Teilnehmerzahl ist auf Grund der Örtlichkeit begrenzt. \nWann: Freitag\, 24. Oktober 2024\n15:00 Uhr \nWo: Niedersachsenhaus Bramstedt\nDorfstraße 24\n27628 Hagen im Bremischen \nKosten: Mitglieder: frei\nNichtmitglieder: 5\,00 €\nfür Kaffee und Kuchen satt\n(Den Betrag bitte vor Ort bezahlen.) \nAnmeldung: bis zum 19. Oktober bei\nHeike Matthias\, Tel.: 04746/951077\noder E-Mail: heike@matthias-net.de
URL:https://cux-landfrauen.de/termin/kloen-nachmittag-2/
LOCATION:Niedersachsenhaus Bramstedt
CATEGORIES:Kultur,LFV Bramstedt
ATTACH;FMTTYPE=image/jpeg:https://cux-landfrauen.de/wp-content/uploads/2025/01/Kloennachmittag-ce21fe0ae3cfc2d19cc8f2631d7e6e42.jpg
END:VEVENT
BEGIN:VEVENT
DTSTART;TZID=Europe/Berlin:20251024T193000
DTEND;TZID=Europe/Berlin:20251024T220000
DTSTAMP:20260423T203724
CREATED:20250812T151444Z
LAST-MODIFIED:20250812T151705Z
UID:9231-1761334200-1761343200@cux-landfrauen.de
SUMMARY:Theaterbesuch Bremerhaven
DESCRIPTION:Wir wollen die Oper „Die Liebe zu den drei Orangen” sehen.\nEin Prinz ist unheilbar Krank. Er kann nicht lachen. Alle Versuche wieder Freude in sein Leben zu\nbringen waren erfolglos. Durch ein Missgeschick der bösen Zauberin Fata Morgana\, lässt den Prinzen herzhaftlachen und bring ihm dadurch einen Fluch ein. Er soll sich in drei Orangen verlieben\, in denen jeweils eine Prinzessin steckt. Auf seiner Reise erlebt er so einiges.\nDies ist ein farbenfrohes Unterhaltungsspektakel. Wir dürfen sehr gespannt auf diesen Abend sein. \nAnmeldung u.a. über diese Seite.
URL:https://cux-landfrauen.de/termin/theaterbesuch-bremerhaven/
LOCATION:Stadttheater Bremerhaven\, Am Alten Hafen 25\, Bremerhaven\, 27568\, Deutschland
CATEGORIES:Kultur,LFV Krempel
ATTACH;FMTTYPE=image/png:https://cux-landfrauen.de/wp-content/uploads/2021/11/lfv-event-kultur.png
END:VEVENT
END:VCALENDAR