BEGIN:VCALENDAR
VERSION:2.0
PRODID:-//LandFrauen - ECPv6.15.20//NONSGML v1.0//EN
CALSCALE:GREGORIAN
METHOD:PUBLISH
X-ORIGINAL-URL:https://cux-landfrauen.de
X-WR-CALDESC:Veranstaltungen für LandFrauen
REFRESH-INTERVAL;VALUE=DURATION:PT1H
X-Robots-Tag:noindex
X-PUBLISHED-TTL:PT1H
BEGIN:VTIMEZONE
TZID:Europe/Berlin
BEGIN:DAYLIGHT
TZOFFSETFROM:+0100
TZOFFSETTO:+0200
TZNAME:CEST
DTSTART:20240331T010000
END:DAYLIGHT
BEGIN:STANDARD
TZOFFSETFROM:+0200
TZOFFSETTO:+0100
TZNAME:CET
DTSTART:20241027T010000
END:STANDARD
BEGIN:DAYLIGHT
TZOFFSETFROM:+0100
TZOFFSETTO:+0200
TZNAME:CEST
DTSTART:20250330T010000
END:DAYLIGHT
BEGIN:STANDARD
TZOFFSETFROM:+0200
TZOFFSETTO:+0100
TZNAME:CET
DTSTART:20251026T010000
END:STANDARD
BEGIN:DAYLIGHT
TZOFFSETFROM:+0100
TZOFFSETTO:+0200
TZNAME:CEST
DTSTART:20260329T010000
END:DAYLIGHT
BEGIN:STANDARD
TZOFFSETFROM:+0200
TZOFFSETTO:+0100
TZNAME:CET
DTSTART:20261025T010000
END:STANDARD
END:VTIMEZONE
BEGIN:VEVENT
DTSTART;TZID=Europe/Berlin:20251022T193000
DTEND;TZID=Europe/Berlin:20251022T193000
DTSTAMP:20260423T204102
CREATED:20250903T144245Z
LAST-MODIFIED:20250903T144245Z
UID:9263-1761161400-1761161400@cux-landfrauen.de
SUMMARY:Vortrag einer Pilgerreise
DESCRIPTION:„Ich bin dann mal weg – die kleine Christa wird groß.“\nFrau Naatjes-Schroeter berichtet von ihrer Pilgerreise. \nEs wird ein Imbiss gereicht und vor Ort ein Kostenbeitrag erhoben.\nAnmeldung ab 01.10.2025 auf dem Landfrauen-AB 0157 569 680 09
URL:https://cux-landfrauen.de/termin/vortrag-einer-pilgerreise/
LOCATION:Restaurant Vittoria\, Logestraße 8\, Beverstedt\, 27616\, Deutschland
CATEGORIES:LFV Beverstedt
ATTACH;FMTTYPE=image/png:https://cux-landfrauen.de/wp-content/uploads/2021/11/lfv-event-vortrag.png
END:VEVENT
END:VCALENDAR