BEGIN:VCALENDAR
VERSION:2.0
PRODID:-//LandFrauen - ECPv6.15.20//NONSGML v1.0//EN
CALSCALE:GREGORIAN
METHOD:PUBLISH
X-ORIGINAL-URL:https://cux-landfrauen.de
X-WR-CALDESC:Veranstaltungen für LandFrauen
REFRESH-INTERVAL;VALUE=DURATION:PT1H
X-Robots-Tag:noindex
X-PUBLISHED-TTL:PT1H
BEGIN:VTIMEZONE
TZID:Europe/Berlin
BEGIN:DAYLIGHT
TZOFFSETFROM:+0100
TZOFFSETTO:+0200
TZNAME:CEST
DTSTART:20240331T010000
END:DAYLIGHT
BEGIN:STANDARD
TZOFFSETFROM:+0200
TZOFFSETTO:+0100
TZNAME:CET
DTSTART:20241027T010000
END:STANDARD
BEGIN:DAYLIGHT
TZOFFSETFROM:+0100
TZOFFSETTO:+0200
TZNAME:CEST
DTSTART:20250330T010000
END:DAYLIGHT
BEGIN:STANDARD
TZOFFSETFROM:+0200
TZOFFSETTO:+0100
TZNAME:CET
DTSTART:20251026T010000
END:STANDARD
BEGIN:DAYLIGHT
TZOFFSETFROM:+0100
TZOFFSETTO:+0200
TZNAME:CEST
DTSTART:20260329T010000
END:DAYLIGHT
BEGIN:STANDARD
TZOFFSETFROM:+0200
TZOFFSETTO:+0100
TZNAME:CET
DTSTART:20261025T010000
END:STANDARD
END:VTIMEZONE
BEGIN:VEVENT
DTSTART;TZID=Europe/Berlin:20251020T143000
DTEND;TZID=Europe/Berlin:20251020T143000
DTSTAMP:20260423T204125
CREATED:20250903T144114Z
LAST-MODIFIED:20250903T144114Z
UID:9261-1760970600-1760970600@cux-landfrauen.de
SUMMARY:Wir lassen die Nadeln spielen
DESCRIPTION:Auch in diesem Jahr stricken wir wieder. Gemeinsam macht die Handarbeit noch mehr Spaß und wir können unsere Erfahrungen austauschen. Weitere Nadelspiele finden jeweils am 3. Montag im Monat statt. \nWeitere Informationen und Anmeldung ab 10.10.2025 unter 01523 4038927 (Auch per WhatsApp)
URL:https://cux-landfrauen.de/termin/wir-lassen-die-nadeln-spielen-3/
LOCATION:Bördestraße 5 in Beverstedt\, Bördestraße 5\, Beverstedt\, 27616\, Deutschland
CATEGORIES:LFV Beverstedt
ATTACH;FMTTYPE=image/png:https://cux-landfrauen.de/wp-content/uploads/2021/11/lfv-event-versammlung.png
END:VEVENT
END:VCALENDAR