BEGIN:VCALENDAR
VERSION:2.0
PRODID:-//LandFrauen - ECPv6.15.20//NONSGML v1.0//EN
CALSCALE:GREGORIAN
METHOD:PUBLISH
X-ORIGINAL-URL:https://cux-landfrauen.de
X-WR-CALDESC:Veranstaltungen für LandFrauen
REFRESH-INTERVAL;VALUE=DURATION:PT1H
X-Robots-Tag:noindex
X-PUBLISHED-TTL:PT1H
BEGIN:VTIMEZONE
TZID:Europe/Berlin
BEGIN:DAYLIGHT
TZOFFSETFROM:+0100
TZOFFSETTO:+0200
TZNAME:CEST
DTSTART:20240331T010000
END:DAYLIGHT
BEGIN:STANDARD
TZOFFSETFROM:+0200
TZOFFSETTO:+0100
TZNAME:CET
DTSTART:20241027T010000
END:STANDARD
BEGIN:DAYLIGHT
TZOFFSETFROM:+0100
TZOFFSETTO:+0200
TZNAME:CEST
DTSTART:20250330T010000
END:DAYLIGHT
BEGIN:STANDARD
TZOFFSETFROM:+0200
TZOFFSETTO:+0100
TZNAME:CET
DTSTART:20251026T010000
END:STANDARD
BEGIN:DAYLIGHT
TZOFFSETFROM:+0100
TZOFFSETTO:+0200
TZNAME:CEST
DTSTART:20260329T010000
END:DAYLIGHT
BEGIN:STANDARD
TZOFFSETFROM:+0200
TZOFFSETTO:+0100
TZNAME:CET
DTSTART:20261025T010000
END:STANDARD
END:VTIMEZONE
BEGIN:VEVENT
DTSTART;TZID=Europe/Berlin:20251015T193000
DTEND;TZID=Europe/Berlin:20251015T193000
DTSTAMP:20260423T204200
CREATED:20250929T154942Z
LAST-MODIFIED:20250929T154942Z
UID:9387-1760556600-1760556600@cux-landfrauen.de
SUMMARY:Power für dich!
DESCRIPTION:Am Mittwoch\, den 22.10.25\, um 19.30 Uhr\, im Gemeindehaus Flögeln\, wird uns Kristina Zimbalski Informationen zu Fitline- Produkten geben. Wir tauchen in ganzheitliche Konzepte ein\, die euch helfen können\, wieder mehr Energie im Alltag zu spüren\, euer Immunsystem zu stärken und erholsamer zu schlafen. Ihr fühlt euch ausgepowert und schlapp\, seid oft müde? Dann solltet ihr an diesem Abend dabei sein und die Chance nutzen eurer Gesundheit und eurem Wohlbefinden auf die Sprünge zu helfen. \nKosten: 5\,- Euro\, Gäste und Nichtmitglieder sind herzlich willkommen!\nAnmeldung bis zum 15.10.25 bei Alida Sengstaken Tel. 04707/424 od. WhatsApp 016092272822
URL:https://cux-landfrauen.de/termin/power-fuer-dich/
LOCATION:Gemeindehaus Flögeln
CATEGORIES:LFV Bederkesa,Vorträge
ATTACH;FMTTYPE=image/png:https://cux-landfrauen.de/wp-content/uploads/2021/11/lfv-event-vortrag.png
END:VEVENT
END:VCALENDAR