BEGIN:VCALENDAR
VERSION:2.0
PRODID:-//LandFrauen - ECPv6.15.20//NONSGML v1.0//EN
CALSCALE:GREGORIAN
METHOD:PUBLISH
X-WR-CALNAME:LandFrauen
X-ORIGINAL-URL:https://cux-landfrauen.de
X-WR-CALDESC:Veranstaltungen für LandFrauen
REFRESH-INTERVAL;VALUE=DURATION:PT1H
X-Robots-Tag:noindex
X-PUBLISHED-TTL:PT1H
BEGIN:VTIMEZONE
TZID:Europe/Berlin
BEGIN:DAYLIGHT
TZOFFSETFROM:+0100
TZOFFSETTO:+0200
TZNAME:CEST
DTSTART:20240331T010000
END:DAYLIGHT
BEGIN:STANDARD
TZOFFSETFROM:+0200
TZOFFSETTO:+0100
TZNAME:CET
DTSTART:20241027T010000
END:STANDARD
BEGIN:DAYLIGHT
TZOFFSETFROM:+0100
TZOFFSETTO:+0200
TZNAME:CEST
DTSTART:20250330T010000
END:DAYLIGHT
BEGIN:STANDARD
TZOFFSETFROM:+0200
TZOFFSETTO:+0100
TZNAME:CET
DTSTART:20251026T010000
END:STANDARD
BEGIN:DAYLIGHT
TZOFFSETFROM:+0100
TZOFFSETTO:+0200
TZNAME:CEST
DTSTART:20260329T010000
END:DAYLIGHT
BEGIN:STANDARD
TZOFFSETFROM:+0200
TZOFFSETTO:+0100
TZNAME:CET
DTSTART:20261025T010000
END:STANDARD
END:VTIMEZONE
BEGIN:VEVENT
DTSTART;TZID=Europe/Berlin:20251008T150000
DTEND;TZID=Europe/Berlin:20251008T171500
DTSTAMP:20260423T203553
CREATED:20250910T152448Z
LAST-MODIFIED:20250910T152448Z
UID:9289-1759935600-1759943700@cux-landfrauen.de
SUMMARY:Kurs – Handarbeiten
DESCRIPTION:Kreatives Handarbeiten\, verschiedene Techniken\, Makrameetechnik\, Windlichter mit Paketband behäkeln\, Anhänger häkeln\, Nesteldecken für Personen mit Demenz\, Weihnachtssterne mit\nTransparentpapier basteln … \nImmer jeden 2. Mittwoch im Monat mit Gertrud Wilkens-Ronnenberg
URL:https://cux-landfrauen.de/termin/kurs-handarbeiten-2/
LOCATION:OGH Ueterlande\, Oldenburger Straße 76\, Loxstedt-Ueterlande\, 27612\, Deutschland
CATEGORIES:LFV Landwürden
ATTACH;FMTTYPE=image/png:https://cux-landfrauen.de/wp-content/uploads/2021/11/lfv-event-versammlung.png
END:VEVENT
END:VCALENDAR