BEGIN:VCALENDAR
VERSION:2.0
PRODID:-//LandFrauen - ECPv6.15.20//NONSGML v1.0//EN
CALSCALE:GREGORIAN
METHOD:PUBLISH
X-ORIGINAL-URL:https://cux-landfrauen.de
X-WR-CALDESC:Veranstaltungen für LandFrauen
REFRESH-INTERVAL;VALUE=DURATION:PT1H
X-Robots-Tag:noindex
X-PUBLISHED-TTL:PT1H
BEGIN:VTIMEZONE
TZID:Europe/Berlin
BEGIN:DAYLIGHT
TZOFFSETFROM:+0100
TZOFFSETTO:+0200
TZNAME:CEST
DTSTART:20240331T010000
END:DAYLIGHT
BEGIN:STANDARD
TZOFFSETFROM:+0200
TZOFFSETTO:+0100
TZNAME:CET
DTSTART:20241027T010000
END:STANDARD
BEGIN:DAYLIGHT
TZOFFSETFROM:+0100
TZOFFSETTO:+0200
TZNAME:CEST
DTSTART:20250330T010000
END:DAYLIGHT
BEGIN:STANDARD
TZOFFSETFROM:+0200
TZOFFSETTO:+0100
TZNAME:CET
DTSTART:20251026T010000
END:STANDARD
BEGIN:DAYLIGHT
TZOFFSETFROM:+0100
TZOFFSETTO:+0200
TZNAME:CEST
DTSTART:20260329T010000
END:DAYLIGHT
BEGIN:STANDARD
TZOFFSETFROM:+0200
TZOFFSETTO:+0100
TZNAME:CET
DTSTART:20261025T010000
END:STANDARD
END:VTIMEZONE
BEGIN:VEVENT
DTSTART;TZID=Europe/Berlin:20251007T183000
DTEND;TZID=Europe/Berlin:20251007T220000
DTSTAMP:20260423T203951
CREATED:20250102T161624Z
LAST-MODIFIED:20250102T161624Z
UID:8233-1759861800-1759874400@cux-landfrauen.de
SUMMARY:Essen\, genießen\, gesund bleiben – so unterstützen wir unser Immunsystem
DESCRIPTION:Ob Grippewelle oder Corona- Pandemie\, unser Immunsystem ist sehr gefragt und bewährt sich immer wieder aufs Neue. Mit Gudrun Göppert tauchen wir in die Welt unseres Immunsystems ein und erfahren mehr darüber\, was uns stärkt oder schwächt. Wie wir leicht über den Speiseplan die Abwehrkräfte steigern und wie die Fitmacher – Vitamine und sekundäres Pflanzenstoffe – wirken. Zum Intervallfasten und Lachyoga u.a. hören wir dann noch Fakten und Mythen.\nEssen wir uns fit\, genießen den Herbst und bleiben gesund! \nWann: Dienstag\, 07. Oktober 2025\num 18:30 Uhr \nWo: Gaststätte An de Eck\, Bokel- Kransmoor\nFeldstraße 49\, 27616 Beverstedt \nKosten: für ein Abendessen und Getränke\nvon Nichtmitgliedern erbitten wir\nzusätzlich eine Spende von 5\,- €.\n(Den Betrag bitte vor Ort bezahlen.) \nAnmeldung: bis 26. September bei\nImke Zittlau\, Tel. 04746/6271\noder E-Mail: imke.zittlau@t-online.de
URL:https://cux-landfrauen.de/termin/essen-geniessen-gesund-bleiben-so-unterstuetzen-wir-unser-immunsystem/
LOCATION:Gaststätte »An de Eck«\, Feldstraße 49\, Beverstedt (Kransmoor)\, 27616\, Germany
CATEGORIES:Haus und Garten,LFV Bramstedt
ATTACH;FMTTYPE=image/jpeg:https://cux-landfrauen.de/wp-content/uploads/2025/01/gesundes-Essen-962c771f2abaabfabd07462fc480d144.jpg
END:VEVENT
END:VCALENDAR