BEGIN:VCALENDAR
VERSION:2.0
PRODID:-//LandFrauen - ECPv6.15.20//NONSGML v1.0//EN
CALSCALE:GREGORIAN
METHOD:PUBLISH
X-WR-CALNAME:LandFrauen
X-ORIGINAL-URL:https://cux-landfrauen.de
X-WR-CALDESC:Veranstaltungen für LandFrauen
REFRESH-INTERVAL;VALUE=DURATION:PT1H
X-Robots-Tag:noindex
X-PUBLISHED-TTL:PT1H
BEGIN:VTIMEZONE
TZID:Europe/Berlin
BEGIN:DAYLIGHT
TZOFFSETFROM:+0100
TZOFFSETTO:+0200
TZNAME:CEST
DTSTART:20240331T010000
END:DAYLIGHT
BEGIN:STANDARD
TZOFFSETFROM:+0200
TZOFFSETTO:+0100
TZNAME:CET
DTSTART:20241027T010000
END:STANDARD
BEGIN:DAYLIGHT
TZOFFSETFROM:+0100
TZOFFSETTO:+0200
TZNAME:CEST
DTSTART:20250330T010000
END:DAYLIGHT
BEGIN:STANDARD
TZOFFSETFROM:+0200
TZOFFSETTO:+0100
TZNAME:CET
DTSTART:20251026T010000
END:STANDARD
BEGIN:DAYLIGHT
TZOFFSETFROM:+0100
TZOFFSETTO:+0200
TZNAME:CEST
DTSTART:20260329T010000
END:DAYLIGHT
BEGIN:STANDARD
TZOFFSETFROM:+0200
TZOFFSETTO:+0100
TZNAME:CET
DTSTART:20261025T010000
END:STANDARD
END:VTIMEZONE
BEGIN:VEVENT
DTSTART;TZID=Europe/Berlin:20251006T140000
DTEND;TZID=Europe/Berlin:20251006T140000
DTSTAMP:20260423T203554
CREATED:20250903T143920Z
LAST-MODIFIED:20250903T143944Z
UID:9258-1759759200-1759759200@cux-landfrauen.de
SUMMARY:Wer nicht wagt\, der nicht gewinnt.
DESCRIPTION:Wir entdecken neue Spiele und lassen alte Spiele wieder aufleben. Weitere Spielnachmittage finden anschließend an jedem ersten Montag im Monat statt. \nAnmeldung: 01523 4038927 (auch per WhatsApp)
URL:https://cux-landfrauen.de/termin/wer-nicht-wagt-der-nicht-gewinnt/
LOCATION:Bördestraße 5\, Beverstedt\, Bördestraße 5\, Beverstedt\, Germany
CATEGORIES:LFV Beverstedt
ATTACH;FMTTYPE=image/png:https://cux-landfrauen.de/wp-content/uploads/2021/11/lfv-event-versammlung.png
END:VEVENT
END:VCALENDAR