BEGIN:VCALENDAR
VERSION:2.0
PRODID:-//LandFrauen - ECPv6.15.20//NONSGML v1.0//EN
CALSCALE:GREGORIAN
METHOD:PUBLISH
X-ORIGINAL-URL:https://cux-landfrauen.de
X-WR-CALDESC:Veranstaltungen für LandFrauen
REFRESH-INTERVAL;VALUE=DURATION:PT1H
X-Robots-Tag:noindex
X-PUBLISHED-TTL:PT1H
BEGIN:VTIMEZONE
TZID:Europe/Berlin
BEGIN:DAYLIGHT
TZOFFSETFROM:+0100
TZOFFSETTO:+0200
TZNAME:CEST
DTSTART:20240331T010000
END:DAYLIGHT
BEGIN:STANDARD
TZOFFSETFROM:+0200
TZOFFSETTO:+0100
TZNAME:CET
DTSTART:20241027T010000
END:STANDARD
BEGIN:DAYLIGHT
TZOFFSETFROM:+0100
TZOFFSETTO:+0200
TZNAME:CEST
DTSTART:20250330T010000
END:DAYLIGHT
BEGIN:STANDARD
TZOFFSETFROM:+0200
TZOFFSETTO:+0100
TZNAME:CET
DTSTART:20251026T010000
END:STANDARD
BEGIN:DAYLIGHT
TZOFFSETFROM:+0100
TZOFFSETTO:+0200
TZNAME:CEST
DTSTART:20260329T010000
END:DAYLIGHT
BEGIN:STANDARD
TZOFFSETFROM:+0200
TZOFFSETTO:+0100
TZNAME:CET
DTSTART:20261025T010000
END:STANDARD
END:VTIMEZONE
BEGIN:VEVENT
DTSTART;TZID=Europe/Berlin:20250830T090000
DTEND;TZID=Europe/Berlin:20250830T090000
DTSTAMP:20260423T172345
CREATED:20250722T174107Z
LAST-MODIFIED:20250722T175057Z
UID:9172-1756544400-1756544400@cux-landfrauen.de
SUMMARY:Landfrauenfahrradtour nach Otterndorf
DESCRIPTION:Unsere diesjährige Fahrradtour führt uns am 30.08.25 nach Otterndorf. Treffen wollen wir uns um 9.00 Uhr in Ihlienworth an der alten Meierei/ Landfrauenmarkt. Dann fahren wir gemeinsam mit dem Rad nach Otterndorf\, wo uns ein Frühstücksbüfett erwartet. Weiter geht es\, gut gestärkt\, durch Otterndorf und Umgebung\, bis wir wieder zurück nach Ihlienworth fahren\, um dort gemeinsam Kaffee und Kuchen zu genießen. \nKosten: 35\,– Euro\nAnmeldung bis zum 20.08.25 bei Emmeli Puls Tel. 04745/6600 od. 0152/57278661
URL:https://cux-landfrauen.de/termin/landfrauenfahrradtour-nach-otterndorf/
LOCATION:Otterndorf\, Otterndorf\, Germany
CATEGORIES:Fahrten,LFV Bederkesa
ATTACH;FMTTYPE=image/png:https://cux-landfrauen.de/wp-content/uploads/2021/11/lfv-event-fahrten.png
END:VEVENT
END:VCALENDAR