BEGIN:VCALENDAR
VERSION:2.0
PRODID:-//LandFrauen - ECPv6.15.20//NONSGML v1.0//EN
CALSCALE:GREGORIAN
METHOD:PUBLISH
X-WR-CALNAME:LandFrauen
X-ORIGINAL-URL:https://cux-landfrauen.de
X-WR-CALDESC:Veranstaltungen für LandFrauen
REFRESH-INTERVAL;VALUE=DURATION:PT1H
X-Robots-Tag:noindex
X-PUBLISHED-TTL:PT1H
BEGIN:VTIMEZONE
TZID:Europe/Berlin
BEGIN:DAYLIGHT
TZOFFSETFROM:+0100
TZOFFSETTO:+0200
TZNAME:CEST
DTSTART:20240331T010000
END:DAYLIGHT
BEGIN:STANDARD
TZOFFSETFROM:+0200
TZOFFSETTO:+0100
TZNAME:CET
DTSTART:20241027T010000
END:STANDARD
BEGIN:DAYLIGHT
TZOFFSETFROM:+0100
TZOFFSETTO:+0200
TZNAME:CEST
DTSTART:20250330T010000
END:DAYLIGHT
BEGIN:STANDARD
TZOFFSETFROM:+0200
TZOFFSETTO:+0100
TZNAME:CET
DTSTART:20251026T010000
END:STANDARD
BEGIN:DAYLIGHT
TZOFFSETFROM:+0100
TZOFFSETTO:+0200
TZNAME:CEST
DTSTART:20260329T010000
END:DAYLIGHT
BEGIN:STANDARD
TZOFFSETFROM:+0200
TZOFFSETTO:+0100
TZNAME:CET
DTSTART:20261025T010000
END:STANDARD
END:VTIMEZONE
BEGIN:VEVENT
DTSTART;TZID=Europe/Berlin:20250820T121500
DTEND;TZID=Europe/Berlin:20250820T121500
DTSTAMP:20260423T172107
CREATED:20250108T125403Z
LAST-MODIFIED:20250115T112250Z
UID:8293-1755692100-1755692100@cux-landfrauen.de
SUMMARY:Tagesausflug zur Schwebefähre Osten mit Ortsführung
DESCRIPTION:Busfahrt nach Osten mit Informationen zur Fähre und dem Ort vom Ortsheimatpfleger in historischer Tracht. Fahrt mit der Schwebefähre\, danach Kaffeetafel im Café Central.\nAbfahrt: 12.15 Uhr Nordholz Shell\, 12.30 Uhr Midlum Feuerwehr\, 12.45 Uhr Dorum Bhf. \nWeitere Informationen bei Dagmar Dulias 0151 20135440\nKosten 45\,– €\nAnmeldung und Überweisung vom 9. Juli bis zum 6. August\nper Mail: landfrauenreisen@web.de
URL:https://cux-landfrauen.de/termin/tagesausflug-zur-schwebefaehre-osten-mit-ortsfuehrung/
LOCATION:Osten\, Germany
CATEGORIES:Fahrten,LFV Land Wursten
ATTACH;FMTTYPE=image/jpeg:https://cux-landfrauen.de/wp-content/uploads/2025/01/Schwebefaehre_Osten_CC-@_Karl-Heinz_Brinkmann_IMG_20200610_212143215-scaled.jpg
END:VEVENT
END:VCALENDAR