BEGIN:VCALENDAR
VERSION:2.0
PRODID:-//LandFrauen - ECPv6.15.20//NONSGML v1.0//EN
CALSCALE:GREGORIAN
METHOD:PUBLISH
X-WR-CALNAME:LandFrauen
X-ORIGINAL-URL:https://cux-landfrauen.de
X-WR-CALDESC:Veranstaltungen für LandFrauen
REFRESH-INTERVAL;VALUE=DURATION:PT1H
X-Robots-Tag:noindex
X-PUBLISHED-TTL:PT1H
BEGIN:VTIMEZONE
TZID:Europe/Berlin
BEGIN:DAYLIGHT
TZOFFSETFROM:+0100
TZOFFSETTO:+0200
TZNAME:CEST
DTSTART:20240331T010000
END:DAYLIGHT
BEGIN:STANDARD
TZOFFSETFROM:+0200
TZOFFSETTO:+0100
TZNAME:CET
DTSTART:20241027T010000
END:STANDARD
BEGIN:DAYLIGHT
TZOFFSETFROM:+0100
TZOFFSETTO:+0200
TZNAME:CEST
DTSTART:20250330T010000
END:DAYLIGHT
BEGIN:STANDARD
TZOFFSETFROM:+0200
TZOFFSETTO:+0100
TZNAME:CET
DTSTART:20251026T010000
END:STANDARD
BEGIN:DAYLIGHT
TZOFFSETFROM:+0100
TZOFFSETTO:+0200
TZNAME:CEST
DTSTART:20260329T010000
END:DAYLIGHT
BEGIN:STANDARD
TZOFFSETFROM:+0200
TZOFFSETTO:+0100
TZNAME:CET
DTSTART:20261025T010000
END:STANDARD
END:VTIMEZONE
BEGIN:VEVENT
DTSTART;TZID=Europe/Berlin:20250707T180000
DTEND;TZID=Europe/Berlin:20250707T180000
DTSTAMP:20260423T154154
CREATED:20250524T112052Z
LAST-MODIFIED:20250524T112344Z
UID:9037-1751911200-1751911200@cux-landfrauen.de
SUMMARY:Mit den LandFrauen durch's Cuxland
DESCRIPTION:Wir fahren gemeinsam eine öffentliche Radtour\, die der LandFrauenverein Wulsbüttel für uns ausgearbeitet hat.\nKosten: 5\,– Euro \nEs wird keine Haftung übernommen und es wird kein Imbiss / Getränk gereicht.\nStart und Ziel: Kirche in Wulsbüttel
URL:https://cux-landfrauen.de/termin/mit-den-landfrauen-durchs-cuxland-2/
LOCATION:Kirche Wulsbüttel\, Wulsbüttel\, Germany
CATEGORIES:Fahrten,Kreisverband,LFV Wulsbüttel
ATTACH;FMTTYPE=image/png:https://cux-landfrauen.de/wp-content/uploads/2021/11/lfv-event-fahrten.png
END:VEVENT
END:VCALENDAR