BEGIN:VCALENDAR
VERSION:2.0
PRODID:-//LandFrauen - ECPv6.15.20//NONSGML v1.0//EN
CALSCALE:GREGORIAN
METHOD:PUBLISH
X-WR-CALNAME:LandFrauen
X-ORIGINAL-URL:https://cux-landfrauen.de
X-WR-CALDESC:Veranstaltungen für LandFrauen
REFRESH-INTERVAL;VALUE=DURATION:PT1H
X-Robots-Tag:noindex
X-PUBLISHED-TTL:PT1H
BEGIN:VTIMEZONE
TZID:Europe/Berlin
BEGIN:DAYLIGHT
TZOFFSETFROM:+0100
TZOFFSETTO:+0200
TZNAME:CEST
DTSTART:20240331T010000
END:DAYLIGHT
BEGIN:STANDARD
TZOFFSETFROM:+0200
TZOFFSETTO:+0100
TZNAME:CET
DTSTART:20241027T010000
END:STANDARD
BEGIN:DAYLIGHT
TZOFFSETFROM:+0100
TZOFFSETTO:+0200
TZNAME:CEST
DTSTART:20250330T010000
END:DAYLIGHT
BEGIN:STANDARD
TZOFFSETFROM:+0200
TZOFFSETTO:+0100
TZNAME:CET
DTSTART:20251026T010000
END:STANDARD
BEGIN:DAYLIGHT
TZOFFSETFROM:+0100
TZOFFSETTO:+0200
TZNAME:CEST
DTSTART:20260329T010000
END:DAYLIGHT
BEGIN:STANDARD
TZOFFSETFROM:+0200
TZOFFSETTO:+0100
TZNAME:CET
DTSTART:20261025T010000
END:STANDARD
END:VTIMEZONE
BEGIN:VEVENT
DTSTART;VALUE=DATE:20250623
DTEND;VALUE=DATE:20250701
DTSTAMP:20260423T140846
CREATED:20250129T182507Z
LAST-MODIFIED:20250129T182728Z
UID:8453-1750636800-1751327999@cux-landfrauen.de
SUMMARY:LandFrauen fahren nach Dresden und die Sächsische Schweiz
DESCRIPTION:  \nDer Kreisverband der LandFrauen führt eine Busreise vom 23.06.-30.06.2025 nach Dresden. Die zauberhafte Elbflorenz\, die Sächsische Schweiz\, Prag\, Schloss Moritzburg und Meißner Porzellan sind Ziele der 8-tägigen Reise. Die Landmänner sind hierzu ebenfalls herzlich willkommen! Informationen hierzu gibt es bei Erika Boldt Tel.: 04745-1677 \nReisebeschreibung (23.06.-30.06.2025) \nAnmeldeformular_Sächsische Schweiz
URL:https://cux-landfrauen.de/termin/landfrauen-fahren-nach-dresden-und-die-saechsische-schweiz/
LOCATION:Dresden
CATEGORIES:Fahrten
ATTACH;FMTTYPE=image/png:https://cux-landfrauen.de/wp-content/uploads/2021/11/lfv-event-fahrten.png
END:VEVENT
BEGIN:VEVENT
DTSTART;TZID=Europe/Berlin:20250630T180000
DTEND;TZID=Europe/Berlin:20250630T180000
DTSTAMP:20260423T140846
CREATED:20250318T105525Z
LAST-MODIFIED:20250318T105525Z
UID:8771-1751306400-1751306400@cux-landfrauen.de
SUMMARY:Workshop Floristik
DESCRIPTION:Sommersträuße aus Natur und Garten
URL:https://cux-landfrauen.de/termin/workshop-floristik-2/
LOCATION:Heike Bahr\, Dorfstr. 22\, 27612 Donnern\, Dorfstraße 22\, Donnern\, 27612\, Germany
CATEGORIES:Haus und Garten,LFV Donnern
ATTACH;FMTTYPE=image/png:https://cux-landfrauen.de/wp-content/uploads/2021/11/lfv-event-haus-garten.png
END:VEVENT
END:VCALENDAR