BEGIN:VCALENDAR
VERSION:2.0
PRODID:-//LandFrauen - ECPv6.15.20//NONSGML v1.0//EN
CALSCALE:GREGORIAN
METHOD:PUBLISH
X-WR-CALNAME:LandFrauen
X-ORIGINAL-URL:https://cux-landfrauen.de
X-WR-CALDESC:Veranstaltungen für LandFrauen
REFRESH-INTERVAL;VALUE=DURATION:PT1H
X-Robots-Tag:noindex
X-PUBLISHED-TTL:PT1H
BEGIN:VTIMEZONE
TZID:Europe/Berlin
BEGIN:DAYLIGHT
TZOFFSETFROM:+0100
TZOFFSETTO:+0200
TZNAME:CEST
DTSTART:20240331T010000
END:DAYLIGHT
BEGIN:STANDARD
TZOFFSETFROM:+0200
TZOFFSETTO:+0100
TZNAME:CET
DTSTART:20241027T010000
END:STANDARD
BEGIN:DAYLIGHT
TZOFFSETFROM:+0100
TZOFFSETTO:+0200
TZNAME:CEST
DTSTART:20250330T010000
END:DAYLIGHT
BEGIN:STANDARD
TZOFFSETFROM:+0200
TZOFFSETTO:+0100
TZNAME:CET
DTSTART:20251026T010000
END:STANDARD
BEGIN:DAYLIGHT
TZOFFSETFROM:+0100
TZOFFSETTO:+0200
TZNAME:CEST
DTSTART:20260329T010000
END:DAYLIGHT
BEGIN:STANDARD
TZOFFSETFROM:+0200
TZOFFSETTO:+0100
TZNAME:CET
DTSTART:20261025T010000
END:STANDARD
END:VTIMEZONE
BEGIN:VEVENT
DTSTART;TZID=Europe/Berlin:20250618T153000
DTEND;TZID=Europe/Berlin:20250618T153000
DTSTAMP:20260423T140846
CREATED:20250108T124859Z
LAST-MODIFIED:20250108T124859Z
UID:8287-1750260600-1750260600@cux-landfrauen.de
SUMMARY:Wattwanderung mit „Wattenpeter“\, LandFrauen Land Wursten
DESCRIPTION:Großeltern\, Eltern mit Kindern erleben Ebbe und Flut.\nKleidung: natürlich dem Wetter angepasst! Also: Barfuß\, Turn- oder Surfschuhe\, Gummistiefel. \nTreffpunkt: bei der großen Robbe am Nationalparkhaus Dorum-Neufeld\nKosten: Erwachsene 8\,– €\, Kinder ab 5 Jahre 5\,– €\, bis 5 Jahre kostenfrei\nAnmeldung und Überweisung vom 07.05. bis 04.06.2025\nTel. 0174 6550634 oder per Mail: lfv-landwursten@web.de
URL:https://cux-landfrauen.de/termin/wattwanderung-mit-wattenpeter-landfrauen-land-wursten/
LOCATION:Nationalparkhaus\, Dorum-Neufeld\, Germany
CATEGORIES:LFV Land Wursten,Vorträge
ATTACH;FMTTYPE=image/jpeg:https://cux-landfrauen.de/wp-content/uploads/2025/01/1000013153-06d71d9598a07e24fcb28ee83f0f2d5d-scaled.jpg
END:VEVENT
END:VCALENDAR