BEGIN:VCALENDAR
VERSION:2.0
PRODID:-//LandFrauen - ECPv6.15.20//NONSGML v1.0//EN
CALSCALE:GREGORIAN
METHOD:PUBLISH
X-WR-CALNAME:LandFrauen
X-ORIGINAL-URL:https://cux-landfrauen.de
X-WR-CALDESC:Veranstaltungen für LandFrauen
REFRESH-INTERVAL;VALUE=DURATION:PT1H
X-Robots-Tag:noindex
X-PUBLISHED-TTL:PT1H
BEGIN:VTIMEZONE
TZID:Europe/Berlin
BEGIN:DAYLIGHT
TZOFFSETFROM:+0100
TZOFFSETTO:+0200
TZNAME:CEST
DTSTART:20240331T010000
END:DAYLIGHT
BEGIN:STANDARD
TZOFFSETFROM:+0200
TZOFFSETTO:+0100
TZNAME:CET
DTSTART:20241027T010000
END:STANDARD
BEGIN:DAYLIGHT
TZOFFSETFROM:+0100
TZOFFSETTO:+0200
TZNAME:CEST
DTSTART:20250330T010000
END:DAYLIGHT
BEGIN:STANDARD
TZOFFSETFROM:+0200
TZOFFSETTO:+0100
TZNAME:CET
DTSTART:20251026T010000
END:STANDARD
BEGIN:DAYLIGHT
TZOFFSETFROM:+0100
TZOFFSETTO:+0200
TZNAME:CEST
DTSTART:20260329T010000
END:DAYLIGHT
BEGIN:STANDARD
TZOFFSETFROM:+0200
TZOFFSETTO:+0100
TZNAME:CET
DTSTART:20261025T010000
END:STANDARD
END:VTIMEZONE
BEGIN:VEVENT
DTSTART;TZID=Europe/Berlin:20250605T080000
DTEND;TZID=Europe/Berlin:20250605T190000
DTSTAMP:20260423T140855
CREATED:20250503T102152Z
LAST-MODIFIED:20250503T102152Z
UID:8983-1749110400-1749150000@cux-landfrauen.de
SUMMARY:Ammerland Rundfahrt und Park der Gärten mit Spargelessen in Bad Zwischenahn
DESCRIPTION:Von einem Gästeführer werden wir durch das schöne Ammerland geleitet. Im Anschluss erwartet uns ein Spargelbuffet im „Ahrenshof“. Gut gestärkt fahren wir dann weiter zum „Park der Gärten“. Uns erwartet ein zauberhaftes Blütenmeer mit einer unglaublichen Botanischen Vielfalt. \nAnmeldung und bis zum 05.05.2025 bei Emmeli Puls 04745/6600
URL:https://cux-landfrauen.de/termin/ammerland-rundfahrt-und-park-der-gaerten-mit-spargelessen-in-bad-zwischenahn/
LOCATION:Bad Zwischenahn\, Deutschland
CATEGORIES:Fahrten,LFV Bederkesa
ATTACH;FMTTYPE=image/png:https://cux-landfrauen.de/wp-content/uploads/2021/11/lfv-event-fahrten.png
END:VEVENT
END:VCALENDAR