BEGIN:VCALENDAR
VERSION:2.0
PRODID:-//LandFrauen - ECPv6.15.20//NONSGML v1.0//EN
CALSCALE:GREGORIAN
METHOD:PUBLISH
X-WR-CALNAME:LandFrauen
X-ORIGINAL-URL:https://cux-landfrauen.de
X-WR-CALDESC:Veranstaltungen für LandFrauen
REFRESH-INTERVAL;VALUE=DURATION:PT1H
X-Robots-Tag:noindex
X-PUBLISHED-TTL:PT1H
BEGIN:VTIMEZONE
TZID:Europe/Berlin
BEGIN:DAYLIGHT
TZOFFSETFROM:+0100
TZOFFSETTO:+0200
TZNAME:CEST
DTSTART:20240331T010000
END:DAYLIGHT
BEGIN:STANDARD
TZOFFSETFROM:+0200
TZOFFSETTO:+0100
TZNAME:CET
DTSTART:20241027T010000
END:STANDARD
BEGIN:DAYLIGHT
TZOFFSETFROM:+0100
TZOFFSETTO:+0200
TZNAME:CEST
DTSTART:20250330T010000
END:DAYLIGHT
BEGIN:STANDARD
TZOFFSETFROM:+0200
TZOFFSETTO:+0100
TZNAME:CET
DTSTART:20251026T010000
END:STANDARD
BEGIN:DAYLIGHT
TZOFFSETFROM:+0100
TZOFFSETTO:+0200
TZNAME:CEST
DTSTART:20260329T010000
END:DAYLIGHT
BEGIN:STANDARD
TZOFFSETFROM:+0200
TZOFFSETTO:+0100
TZNAME:CET
DTSTART:20261025T010000
END:STANDARD
END:VTIMEZONE
BEGIN:VEVENT
DTSTART;TZID=Europe/Berlin:20250603T180000
DTEND;TZID=Europe/Berlin:20250603T210000
DTSTAMP:20260423T140914
CREATED:20250313T152249Z
LAST-MODIFIED:20250313T152249Z
UID:8740-1748973600-1748984400@cux-landfrauen.de
SUMMARY:Stand-Up-Paddeln am Spadener See
DESCRIPTION:Etwas neues ausprobieren! Wir wagen uns mit einem Stand Up-Paddel auf den Spadener See.\nStand Up Paddeln ist ein hervorragender Ausdauersport\, der alle wichtigen Muskelgruppen beansprucht und es macht riesig Spaß\, man kann dabei prima abschalten und die Natur genießen.\nEin professioneller Trainer/in leitet uns an und zeigt uns wie wir diesen Balance Akt auf dem SUP-Board meistern können.\nSUP-Board\, Paddel und bei Bedarf Schwimmweste sowie Neoprenanzug werden gestellt.\nBitte Schwimmkleidung anziehen.\nGute Laune nicht vergessen. \nTreffpunkt: 03.06.2025 um 18:00 Uhr bei BlueBay Am Spadener See 52\, 27619 Spaden\nKosten: 39\,– Euro für Mitglieder\, 44\,– Euro für Nichtmitglieder\nVerbindliche Anmeldung: bis zum 28.05.2025 bei Martina Krause-von-Döhlen\nTel. 0163 9142260
URL:https://cux-landfrauen.de/termin/stand-up-paddeln-am-spadener-see/
LOCATION:Spadener See\, Spaden\, Germany
CATEGORIES:LFV Wulsbüttel
ATTACH;FMTTYPE=image/png:https://cux-landfrauen.de/wp-content/uploads/2021/11/lfv-event-fahrten.png
END:VEVENT
END:VCALENDAR