BEGIN:VCALENDAR
VERSION:2.0
PRODID:-//LandFrauen - ECPv6.15.20//NONSGML v1.0//EN
CALSCALE:GREGORIAN
METHOD:PUBLISH
X-ORIGINAL-URL:https://cux-landfrauen.de
X-WR-CALDESC:Veranstaltungen für LandFrauen
REFRESH-INTERVAL;VALUE=DURATION:PT1H
X-Robots-Tag:noindex
X-PUBLISHED-TTL:PT1H
BEGIN:VTIMEZONE
TZID:Europe/Berlin
BEGIN:DAYLIGHT
TZOFFSETFROM:+0100
TZOFFSETTO:+0200
TZNAME:CEST
DTSTART:20240331T010000
END:DAYLIGHT
BEGIN:STANDARD
TZOFFSETFROM:+0200
TZOFFSETTO:+0100
TZNAME:CET
DTSTART:20241027T010000
END:STANDARD
BEGIN:DAYLIGHT
TZOFFSETFROM:+0100
TZOFFSETTO:+0200
TZNAME:CEST
DTSTART:20250330T010000
END:DAYLIGHT
BEGIN:STANDARD
TZOFFSETFROM:+0200
TZOFFSETTO:+0100
TZNAME:CET
DTSTART:20251026T010000
END:STANDARD
BEGIN:DAYLIGHT
TZOFFSETFROM:+0100
TZOFFSETTO:+0200
TZNAME:CEST
DTSTART:20260329T010000
END:DAYLIGHT
BEGIN:STANDARD
TZOFFSETFROM:+0200
TZOFFSETTO:+0100
TZNAME:CET
DTSTART:20261025T010000
END:STANDARD
END:VTIMEZONE
BEGIN:VEVENT
DTSTART;TZID=Europe/Berlin:20250531T140000
DTEND;TZID=Europe/Berlin:20250531T180000
DTSTAMP:20260423T123536
CREATED:20250102T160151Z
LAST-MODIFIED:20250102T160151Z
UID:8214-1748700000-1748714400@cux-landfrauen.de
SUMMARY:„Jetzt bin ich mal dran“
DESCRIPTION:Frauen zwischen 55 und 65 stehen oftmals vor einem neuen Lebensabschnitt. Die Kinder sind groß und aus dem Haus\, das Berufsleben neigt sich dem Ende zu. Manchmal steht man auch vor einer Trennung oder hat sie hinter sich und viele Frauen fragen sich: „Was kommt jetzt?”\, „War das alles?” oder „Geht da noch was?“ Frauen sind es oft nicht gewohnt\, auf ihre Bedürfnisse zu achten. Sie stellen sich gerne hintenan. Wenn uns aber kaum noch jemand braucht\, in unserem Umfeld\, was kommt dann? Welche Rolle spielen wir noch? Wer sind wir? Diesen Fragen gehen wir gemeinsam nach. Wir erarbeiten neue Ziele\, werden uns unserer Stärken bewusst und stellen unsere Bedürfnisse in den Vordergrund. Ganz nach dem Motto: „Jetzt bin ich mal dran!” – Zeit für neue Wege! \nWann: Samstag\, 31. Mai 2025\nvon 14:00 Uhr – 18:00 Uhr \nWo: Dorfzentrum Stubben\nBrunshauser Str. 39\n27616 Beverstedt-Stubben \nKosten: 38\,00 € für Mitglieder\n43\,00 € für Nichtmitglieder\n(Den Betrag bitte bis zum 25.05. auf unser Hauptkonto überweisen.) \nAnmeldung: bis 25. Mai bei\nMichaela Lohaus\, Tel. 04748/3199\noder E-Mail: michaela.lohaus@ewetel.net
URL:https://cux-landfrauen.de/termin/jetzt-bin-ich-mal-dran/
LOCATION:Dorfzentrum Stubben\, Brunshauser Straße 39\, Beverstedt-Stubben\, 27616\, Germany
CATEGORIES:Haus und Garten,LFV Bramstedt
ATTACH;FMTTYPE=image/jpeg:https://cux-landfrauen.de/wp-content/uploads/2025/01/jetzt-bin-ich-dran-ce0d78884a6cbdb8063cde33d4cd5f94.jpg
END:VEVENT
END:VCALENDAR