BEGIN:VCALENDAR
VERSION:2.0
PRODID:-//LandFrauen - ECPv6.15.20//NONSGML v1.0//EN
CALSCALE:GREGORIAN
METHOD:PUBLISH
X-WR-CALNAME:LandFrauen
X-ORIGINAL-URL:https://cux-landfrauen.de
X-WR-CALDESC:Veranstaltungen für LandFrauen
REFRESH-INTERVAL;VALUE=DURATION:PT1H
X-Robots-Tag:noindex
X-PUBLISHED-TTL:PT1H
BEGIN:VTIMEZONE
TZID:Europe/Berlin
BEGIN:DAYLIGHT
TZOFFSETFROM:+0100
TZOFFSETTO:+0200
TZNAME:CEST
DTSTART:20240331T010000
END:DAYLIGHT
BEGIN:STANDARD
TZOFFSETFROM:+0200
TZOFFSETTO:+0100
TZNAME:CET
DTSTART:20241027T010000
END:STANDARD
BEGIN:DAYLIGHT
TZOFFSETFROM:+0100
TZOFFSETTO:+0200
TZNAME:CEST
DTSTART:20250330T010000
END:DAYLIGHT
BEGIN:STANDARD
TZOFFSETFROM:+0200
TZOFFSETTO:+0100
TZNAME:CET
DTSTART:20251026T010000
END:STANDARD
BEGIN:DAYLIGHT
TZOFFSETFROM:+0100
TZOFFSETTO:+0200
TZNAME:CEST
DTSTART:20260329T010000
END:DAYLIGHT
BEGIN:STANDARD
TZOFFSETFROM:+0200
TZOFFSETTO:+0100
TZNAME:CET
DTSTART:20261025T010000
END:STANDARD
END:VTIMEZONE
BEGIN:VEVENT
DTSTART;TZID=Europe/Berlin:20250517T090000
DTEND;TZID=Europe/Berlin:20250517T170000
DTSTAMP:20260423T123218
CREATED:20250313T152044Z
LAST-MODIFIED:20250313T152044Z
UID:8737-1747472400-1747501200@cux-landfrauen.de
SUMMARY:Fahrradtour zum Schloss Schönebeck und anschließendem Spargelessen
DESCRIPTION:Wir begeben uns nach einer Fahrradtour in das Museum Schloss Schönebeck auf den Spuren des Afrika-Reisenden Gerhard-Rohlfs und Südsee-Kapitäns Eduard Dallmann. Darüber hinaus erfahren wir alles vom historischen Walfang\, Beginn der Keramikindustrie und Tauwerkfabriken und vieles mehr.\nIm Anschluss werden wir zum Spargel essen in „Bruns Garten“ einkehren\, um uns für die Rückfahrt zu stärken. \nTreffpunkt: 17.5.2025\, 9:00 Uhr\, Feuerwehrhaus Heine\nKosten für die Führung: 10\,– € für Mitglieder\, Nichtmitglieder zahlen einen Zuschlag von 5\,– €\nMittagessen wird im Lokal von jedem direkt bezahlt.\nVerbindliche Anmeldung bis zum 26.04.25 bei Malena Martfeld Tel. 0174-7132048
URL:https://cux-landfrauen.de/termin/fahrradtour-zum-schloss-schoenebeck-und-anschliessendem-spargelessen/
LOCATION:Museum Schloss Schönebeck\, Germany
CATEGORIES:Fahrten,LFV Wulsbüttel
ATTACH;FMTTYPE=image/png:https://cux-landfrauen.de/wp-content/uploads/2021/11/lfv-event-fahrten.png
END:VEVENT
BEGIN:VEVENT
DTSTART;TZID=Europe/Berlin:20250517T100000
DTEND;TZID=Europe/Berlin:20250517T100000
DTSTAMP:20260423T123218
CREATED:20250318T104824Z
LAST-MODIFIED:20250318T104824Z
UID:8757-1747476000-1747476000@cux-landfrauen.de
SUMMARY:Fahrrad-Ralley
DESCRIPTION:für Groß und Klein in Bexhövede
URL:https://cux-landfrauen.de/termin/fahrrad-ralley/
LOCATION:Treffen bei Anke Sauter\, Im Hahnenfelde 4\, Bexhövede\, Im Hahnenfelde 4\, Bexhövede\, Germany
CATEGORIES:Fahrten,LFV Donnern
ATTACH;FMTTYPE=image/png:https://cux-landfrauen.de/wp-content/uploads/2021/11/lfv-event-fahrten.png
END:VEVENT
BEGIN:VEVENT
DTSTART;TZID=Europe/Berlin:20250517T110000
DTEND;TZID=Europe/Berlin:20250517T163000
DTSTAMP:20260423T123218
CREATED:20250514T104522Z
LAST-MODIFIED:20250514T104543Z
UID:9024-1747479600-1747499400@cux-landfrauen.de
SUMMARY:Kräuterwanderung mit Maren Suhr
DESCRIPTION:Kräuterwanderung mit Maren Suhr in Beverstedt-Wellen\, Spintenkamper Str. 22. Aus den gesammelten Wildkräutern wird im Anschluss ein schmackhaftes Menü zubereitet und gemeinsam verspeist. – Außerdem können die Teilnehmer*innen eigenes Kräuteröl\, Kräuteressig und Kräutersalz herstellen. Alles findet draußen statt\, bitte an entsprechende Kleidung denken! \nKosten: 30\,– €\nAnmeldung bis zum 11.05.2025 bei Ina Schwarting\, Tel. 04744-5996 oder unter anmeldunglfStotel@gmail.com
URL:https://cux-landfrauen.de/termin/kraeuterwanderung-mit-maren-suhr/
LOCATION:Spintenkamper Straße\, Spintenkamper Straße 22\, Beverstedt-Wellen\, 27616\, Germany
CATEGORIES:Haus und Garten,LFV Stotel
ATTACH;FMTTYPE=image/png:https://cux-landfrauen.de/wp-content/uploads/2021/11/lfv-event-haus-garten.png
END:VEVENT
END:VCALENDAR