BEGIN:VCALENDAR
VERSION:2.0
PRODID:-//LandFrauen - ECPv6.15.20//NONSGML v1.0//EN
CALSCALE:GREGORIAN
METHOD:PUBLISH
X-ORIGINAL-URL:https://cux-landfrauen.de
X-WR-CALDESC:Veranstaltungen für LandFrauen
REFRESH-INTERVAL;VALUE=DURATION:PT1H
X-Robots-Tag:noindex
X-PUBLISHED-TTL:PT1H
BEGIN:VTIMEZONE
TZID:Europe/Berlin
BEGIN:DAYLIGHT
TZOFFSETFROM:+0100
TZOFFSETTO:+0200
TZNAME:CEST
DTSTART:20240331T010000
END:DAYLIGHT
BEGIN:STANDARD
TZOFFSETFROM:+0200
TZOFFSETTO:+0100
TZNAME:CET
DTSTART:20241027T010000
END:STANDARD
BEGIN:DAYLIGHT
TZOFFSETFROM:+0100
TZOFFSETTO:+0200
TZNAME:CEST
DTSTART:20250330T010000
END:DAYLIGHT
BEGIN:STANDARD
TZOFFSETFROM:+0200
TZOFFSETTO:+0100
TZNAME:CET
DTSTART:20251026T010000
END:STANDARD
BEGIN:DAYLIGHT
TZOFFSETFROM:+0100
TZOFFSETTO:+0200
TZNAME:CEST
DTSTART:20260329T010000
END:DAYLIGHT
BEGIN:STANDARD
TZOFFSETFROM:+0200
TZOFFSETTO:+0100
TZNAME:CET
DTSTART:20261025T010000
END:STANDARD
END:VTIMEZONE
BEGIN:VEVENT
DTSTART;TZID=Europe/Berlin:20250516T193000
DTEND;TZID=Europe/Berlin:20250516T193000
DTSTAMP:20260423T122652
CREATED:20250514T104252Z
LAST-MODIFIED:20250514T104252Z
UID:9020-1747423800-1747423800@cux-landfrauen.de
SUMMARY:Alles über E-Bikes und Pedelecs\, Sicherheit und Wartung
DESCRIPTION:Herr Fabian Rennebeck vom ADFC Cuxhaven informiert die Teilnehmer*innen über das richtige Verhalten im Straßenverkehr\, außerdem über die verschiedenen Fahrradtypen\, auch über verschiedene Akkus und Lademöglichkeiten im Familienzentrum Stotel\, Fredeholzweg 10. \nTeilnahmebeitrag: 5\,– €\, Nichtmitglieder 7\,– €.\nAnmeldung bis zum 13.05.2025 bei Ina Schwarting\, Tel. 04744-5996\nOder über anmeldunglfstotel@gmal.com
URL:https://cux-landfrauen.de/termin/alles-ueber-e-bikes-und-pedelecs-sicherheit-und-wartung/
LOCATION:Familienzentrum Stotel\, Fredeholzweg 10\, Loxstedt-Stotel\, 27612\, Deutschland
CATEGORIES:LFV Stotel,Vorträge
ATTACH;FMTTYPE=image/jpeg:https://cux-landfrauen.de/wp-content/uploads/2025/05/Fahrrad-scaled.jpg
END:VEVENT
END:VCALENDAR