BEGIN:VCALENDAR
VERSION:2.0
PRODID:-//LandFrauen - ECPv6.15.20//NONSGML v1.0//EN
CALSCALE:GREGORIAN
METHOD:PUBLISH
X-ORIGINAL-URL:https://cux-landfrauen.de
X-WR-CALDESC:Veranstaltungen für LandFrauen
REFRESH-INTERVAL;VALUE=DURATION:PT1H
X-Robots-Tag:noindex
X-PUBLISHED-TTL:PT1H
BEGIN:VTIMEZONE
TZID:Europe/Berlin
BEGIN:DAYLIGHT
TZOFFSETFROM:+0100
TZOFFSETTO:+0200
TZNAME:CEST
DTSTART:20240331T010000
END:DAYLIGHT
BEGIN:STANDARD
TZOFFSETFROM:+0200
TZOFFSETTO:+0100
TZNAME:CET
DTSTART:20241027T010000
END:STANDARD
BEGIN:DAYLIGHT
TZOFFSETFROM:+0100
TZOFFSETTO:+0200
TZNAME:CEST
DTSTART:20250330T010000
END:DAYLIGHT
BEGIN:STANDARD
TZOFFSETFROM:+0200
TZOFFSETTO:+0100
TZNAME:CET
DTSTART:20251026T010000
END:STANDARD
BEGIN:DAYLIGHT
TZOFFSETFROM:+0100
TZOFFSETTO:+0200
TZNAME:CEST
DTSTART:20260329T010000
END:DAYLIGHT
BEGIN:STANDARD
TZOFFSETFROM:+0200
TZOFFSETTO:+0100
TZNAME:CET
DTSTART:20261025T010000
END:STANDARD
END:VTIMEZONE
BEGIN:VEVENT
DTSTART;TZID=Europe/Berlin:20250514T150000
DTEND;TZID=Europe/Berlin:20250514T171500
DTSTAMP:20260423T123622
CREATED:20250312T172923Z
LAST-MODIFIED:20250312T172923Z
UID:8716-1747234800-1747242900@cux-landfrauen.de
SUMMARY:Handarbeiten
DESCRIPTION:Kleinigkeiten gestrickt\, gehäckelt und gefilzt. Seifenstücke dekorativ einfilzen.\nJeden zweiten Mittwoch im Monat. \nKursleitung: Gertrud Wilkens-Ronnenberg\nAnmeldung ist nicht nötig.
URL:https://cux-landfrauen.de/termin/handarbeiten-8/
LOCATION:OGH Ueterlande\, Oldenburger Straße 76\, Loxstedt-Ueterlande\, 27612\, Deutschland
CATEGORIES:Haus und Garten,LFV Landwürden
ATTACH;FMTTYPE=image/png:https://cux-landfrauen.de/wp-content/uploads/2021/11/lfv-event-haus-garten.png
END:VEVENT
END:VCALENDAR