BEGIN:VCALENDAR
VERSION:2.0
PRODID:-//LandFrauen - ECPv6.15.20//NONSGML v1.0//EN
CALSCALE:GREGORIAN
METHOD:PUBLISH
X-ORIGINAL-URL:https://cux-landfrauen.de
X-WR-CALDESC:Veranstaltungen für LandFrauen
REFRESH-INTERVAL;VALUE=DURATION:PT1H
X-Robots-Tag:noindex
X-PUBLISHED-TTL:PT1H
BEGIN:VTIMEZONE
TZID:Europe/Berlin
BEGIN:DAYLIGHT
TZOFFSETFROM:+0100
TZOFFSETTO:+0200
TZNAME:CEST
DTSTART:20240331T010000
END:DAYLIGHT
BEGIN:STANDARD
TZOFFSETFROM:+0200
TZOFFSETTO:+0100
TZNAME:CET
DTSTART:20241027T010000
END:STANDARD
BEGIN:DAYLIGHT
TZOFFSETFROM:+0100
TZOFFSETTO:+0200
TZNAME:CEST
DTSTART:20250330T010000
END:DAYLIGHT
BEGIN:STANDARD
TZOFFSETFROM:+0200
TZOFFSETTO:+0100
TZNAME:CET
DTSTART:20251026T010000
END:STANDARD
BEGIN:DAYLIGHT
TZOFFSETFROM:+0100
TZOFFSETTO:+0200
TZNAME:CEST
DTSTART:20260329T010000
END:DAYLIGHT
BEGIN:STANDARD
TZOFFSETFROM:+0200
TZOFFSETTO:+0100
TZNAME:CET
DTSTART:20261025T010000
END:STANDARD
END:VTIMEZONE
BEGIN:VEVENT
DTSTART;TZID=Europe/Berlin:20250513T190000
DTEND;TZID=Europe/Berlin:20250513T190000
DTSTAMP:20260423T130619
CREATED:20250108T123749Z
LAST-MODIFIED:20250108T123749Z
UID:8275-1747162800-1747162800@cux-landfrauen.de
SUMMARY:Vortrag: Patientenverfügung/Vorsorgevollmacht – Land Wursten
DESCRIPTION:Vollmachten sind wichtige Dokumente für Notfälle und helfen sicherzustellen\, dass sich die von uns gewünschte Person im Bedarfsfall sowohl in finanzieller als auch in persönlicher Hinsicht kümmern kann und vor allem: auch darf! \nAn diesem Abend erklärt uns Herr Dr. Walter Schmel\, Anwalt aus Bremerhaven\, wissenswertes über die o.a. Verfügung/Vollmacht.\nAnmeldung vom 01. April bis 29. April 2025 unter 0174-6550634 oder per Mail: lfv-landwursten@web.de
URL:https://cux-landfrauen.de/termin/vortrag-patientenverfuegung-vorsorgevollmacht-land-wursten/
LOCATION:Gemeindehaus Dorum\, Speckenstr. 5\, Dorum
CATEGORIES:LFV Land Wursten,Vorträge
ATTACH;FMTTYPE=image/jpeg:https://cux-landfrauen.de/wp-content/uploads/2025/01/1000023255-0dab57345411c8418a9ac5c27b03b352-scaled.jpg
END:VEVENT
END:VCALENDAR