BEGIN:VCALENDAR
VERSION:2.0
PRODID:-//LandFrauen - ECPv6.15.20//NONSGML v1.0//EN
CALSCALE:GREGORIAN
METHOD:PUBLISH
X-WR-CALNAME:LandFrauen
X-ORIGINAL-URL:https://cux-landfrauen.de
X-WR-CALDESC:Veranstaltungen für LandFrauen
REFRESH-INTERVAL;VALUE=DURATION:PT1H
X-Robots-Tag:noindex
X-PUBLISHED-TTL:PT1H
BEGIN:VTIMEZONE
TZID:Europe/Berlin
BEGIN:DAYLIGHT
TZOFFSETFROM:+0100
TZOFFSETTO:+0200
TZNAME:CEST
DTSTART:20240331T010000
END:DAYLIGHT
BEGIN:STANDARD
TZOFFSETFROM:+0200
TZOFFSETTO:+0100
TZNAME:CET
DTSTART:20241027T010000
END:STANDARD
BEGIN:DAYLIGHT
TZOFFSETFROM:+0100
TZOFFSETTO:+0200
TZNAME:CEST
DTSTART:20250330T010000
END:DAYLIGHT
BEGIN:STANDARD
TZOFFSETFROM:+0200
TZOFFSETTO:+0100
TZNAME:CET
DTSTART:20251026T010000
END:STANDARD
BEGIN:DAYLIGHT
TZOFFSETFROM:+0100
TZOFFSETTO:+0200
TZNAME:CEST
DTSTART:20260329T010000
END:DAYLIGHT
BEGIN:STANDARD
TZOFFSETFROM:+0200
TZOFFSETTO:+0100
TZNAME:CET
DTSTART:20261025T010000
END:STANDARD
END:VTIMEZONE
BEGIN:VEVENT
DTSTART;TZID=Europe/Berlin:20250511T150000
DTEND;TZID=Europe/Berlin:20250511T150000
DTSTAMP:20260423T123258
CREATED:20250122T135358Z
LAST-MODIFIED:20250122T135358Z
UID:8414-1746975600-1746975600@cux-landfrauen.de
SUMMARY:Theaterbesuch - Musical „My Fair Lady“
DESCRIPTION:Wer kennt nicht das Lied „Es grünt so grün wenn Spaniens Blüten blühen“ welches Audrey Hepburn als Eliza Doolittle im gleichnamigen Musicalfilm von 1964 sang. \nEliza Doolittle ist eine einfache Blumenverkäuferin aus einem Londoner Vorort mit starkem Dialekt. Zufällig begegnet sie dem Phonetiker Professor Henry Higgins. Dieser bietet Eliza an\, sie durch Sprachtraining innerhalb weniger Monate für die höchsten Kreise der Gesellschaft fit zu machen. Eliza steht kurz vor der Erfüllung ihrer Träume auf ein besseres Leben\, doch wird ihr die Starrköpfigkeit dieser neuen Schicht bald zu blöd.
URL:https://cux-landfrauen.de/termin/theaterbesuch-musical-my-fair-lady/
LOCATION:Stadttheater Bremerhaven\, Am Alten Hafen 25\, Bremerhaven\, 27568\, Deutschland
CATEGORIES:Kultur,LFV Krempel
ATTACH;FMTTYPE=image/png:https://cux-landfrauen.de/wp-content/uploads/2021/11/lfv-event-kultur.png
END:VEVENT
END:VCALENDAR