BEGIN:VCALENDAR
VERSION:2.0
PRODID:-//LandFrauen - ECPv6.15.20//NONSGML v1.0//EN
CALSCALE:GREGORIAN
METHOD:PUBLISH
X-WR-CALNAME:LandFrauen
X-ORIGINAL-URL:https://cux-landfrauen.de
X-WR-CALDESC:Veranstaltungen für LandFrauen
REFRESH-INTERVAL;VALUE=DURATION:PT1H
X-Robots-Tag:noindex
X-PUBLISHED-TTL:PT1H
BEGIN:VTIMEZONE
TZID:Europe/Berlin
BEGIN:DAYLIGHT
TZOFFSETFROM:+0100
TZOFFSETTO:+0200
TZNAME:CEST
DTSTART:20240331T010000
END:DAYLIGHT
BEGIN:STANDARD
TZOFFSETFROM:+0200
TZOFFSETTO:+0100
TZNAME:CET
DTSTART:20241027T010000
END:STANDARD
BEGIN:DAYLIGHT
TZOFFSETFROM:+0100
TZOFFSETTO:+0200
TZNAME:CEST
DTSTART:20250330T010000
END:DAYLIGHT
BEGIN:STANDARD
TZOFFSETFROM:+0200
TZOFFSETTO:+0100
TZNAME:CET
DTSTART:20251026T010000
END:STANDARD
BEGIN:DAYLIGHT
TZOFFSETFROM:+0100
TZOFFSETTO:+0200
TZNAME:CEST
DTSTART:20260329T010000
END:DAYLIGHT
BEGIN:STANDARD
TZOFFSETFROM:+0200
TZOFFSETTO:+0100
TZNAME:CET
DTSTART:20261025T010000
END:STANDARD
END:VTIMEZONE
BEGIN:VEVENT
DTSTART;TZID=Europe/Berlin:20250502T080000
DTEND;TZID=Europe/Berlin:20250502T080000
DTSTAMP:20260423T123320
CREATED:20250308T095353Z
LAST-MODIFIED:20250308T095353Z
UID:8694-1746172800-1746172800@cux-landfrauen.de
SUMMARY:LebenArt Frühjahrsmarkt auf Gut Basthorst
DESCRIPTION:Auf dem Frühjahrsmarkt können wir zum Start in den Mai\, alles was den Frühling besonders schön macht entdecken.
URL:https://cux-landfrauen.de/termin/lebenart-fruehjahrsmarkt-auf-gut-basthorst/
LOCATION:Gut Basthorst\, Germany
ATTACH;FMTTYPE=image/png:https://cux-landfrauen.de/wp-content/uploads/2021/11/lfv-event-fahrten.png
END:VEVENT
END:VCALENDAR