BEGIN:VCALENDAR
VERSION:2.0
PRODID:-//LandFrauen - ECPv6.15.20//NONSGML v1.0//EN
CALSCALE:GREGORIAN
METHOD:PUBLISH
X-ORIGINAL-URL:https://cux-landfrauen.de
X-WR-CALDESC:Veranstaltungen für LandFrauen
REFRESH-INTERVAL;VALUE=DURATION:PT1H
X-Robots-Tag:noindex
X-PUBLISHED-TTL:PT1H
BEGIN:VTIMEZONE
TZID:Europe/Berlin
BEGIN:DAYLIGHT
TZOFFSETFROM:+0100
TZOFFSETTO:+0200
TZNAME:CEST
DTSTART:20240331T010000
END:DAYLIGHT
BEGIN:STANDARD
TZOFFSETFROM:+0200
TZOFFSETTO:+0100
TZNAME:CET
DTSTART:20241027T010000
END:STANDARD
BEGIN:DAYLIGHT
TZOFFSETFROM:+0100
TZOFFSETTO:+0200
TZNAME:CEST
DTSTART:20250330T010000
END:DAYLIGHT
BEGIN:STANDARD
TZOFFSETFROM:+0200
TZOFFSETTO:+0100
TZNAME:CET
DTSTART:20251026T010000
END:STANDARD
BEGIN:DAYLIGHT
TZOFFSETFROM:+0100
TZOFFSETTO:+0200
TZNAME:CEST
DTSTART:20260329T010000
END:DAYLIGHT
BEGIN:STANDARD
TZOFFSETFROM:+0200
TZOFFSETTO:+0100
TZNAME:CET
DTSTART:20261025T010000
END:STANDARD
END:VTIMEZONE
BEGIN:VEVENT
DTSTART;TZID=Europe/Berlin:20250429T150000
DTEND;TZID=Europe/Berlin:20250429T173000
DTSTAMP:20260423T123537
CREATED:20250403T153326Z
LAST-MODIFIED:20250403T153326Z
UID:8824-1745938800-1745947800@cux-landfrauen.de
SUMMARY:Einsteigerkurs für Smartphone-Nutzer
DESCRIPTION:In diesem Kurs sollen einfache Grundkenntnisse zur allgemeinen Nutzung von Handys sowie Tipps und Tricks beim Einsatz von Apps und Kamera vermittelt werden. Mitzubringen ist ein eigenes Handy. \nAnmeldungen unter lfv-geestenseth@web.de\nTeilnehmerzahl ist begrenzt
URL:https://cux-landfrauen.de/termin/einsteigerkurs-fuer-smartphone-nutzer/
LOCATION:Cora Beckmann\, Osterndorfer Straße 11\, Beverstedt-Wollingst\, 27616\, Germany
CATEGORIES:LFV Geestenseth
ATTACH;FMTTYPE=image/jpeg:https://cux-landfrauen.de/wp-content/uploads/2025/04/WhatsApp-9faf3442448a135c008d9869a0fe58af.jpg
END:VEVENT
BEGIN:VEVENT
DTSTART;TZID=Europe/Berlin:20250429T183000
DTEND;TZID=Europe/Berlin:20250429T183000
DTSTAMP:20260423T123537
CREATED:20250222T183911Z
LAST-MODIFIED:20250222T183911Z
UID:8593-1745951400-1745951400@cux-landfrauen.de
SUMMARY:Lifehacks für die Küche mit ätherischen Ölen
DESCRIPTION:Ätherische Öle stecken nicht nur voller Aroma\, sie sind auch Booster für die Gesundheit. In diesem Kurs werden damit saisonale\, köstliche Gerichte zubereitet.\nDie Dozentin Julia Meyer-Oetjen klärt auch über die Inhaltsstoffe auf\, die heilend\, entgiftend und verjüngend wirken können. Bitte Behälter für eventuelle Reste mitbringen! \nKosten (incl. Lebensmittel und Öle):\n30\,– € / Teilnehmer*in\nAnmeldungen bis zum 25.04.2025 bei Ina Schwarting\, Tel. 04744-5996\noder per Email an: AnmeldungLFStotel@Gmail.com
URL:https://cux-landfrauen.de/termin/lifehacks-fuer-die-kueche-mit-aetherischen-oelen/
LOCATION:Feuerwehrhaus Hahnenknoop\, Am Denkmal 21\, Loxstedt\, 27612\, Germany
CATEGORIES:LFV Stotel
ATTACH;FMTTYPE=image/jpeg:https://cux-landfrauen.de/wp-content/uploads/2025/02/image-8ec97f3efb6360037363966fd5b0d05b-scaled.jpg
END:VEVENT
BEGIN:VEVENT
DTSTART;TZID=Europe/Berlin:20250429T193000
DTEND;TZID=Europe/Berlin:20250429T193000
DTSTAMP:20260423T123537
CREATED:20250122T135026Z
LAST-MODIFIED:20250312T173423Z
UID:8409-1745955000-1745955000@cux-landfrauen.de
SUMMARY:Vortrag - „Der Darm - die unterschätze Mitte“
DESCRIPTION:Wir teilen unseren Körper mit Millionen Bakterien\, die die Haut\, Schleimhäute den Darm besiedeln. Insbesondere unser Darm bietet dabei besonders vielen Bakterien ein Zuhause. Das Gleichgewicht dieses faszinierenden Darm-Ökosystems beeinflusst nicht nur unsere Gesundheit\, sondern auch unsere Stimmung.\nGehalten wird der Vortrag von Frau Göppert von der Landwirtschaftskammer. \nAnmeldung auch über moin@landfrauen-krempel.de möglich.
URL:https://cux-landfrauen.de/termin/vortrag-der-darm-die-unterschaetze-mitte/
LOCATION:Feuerwehrhaus Krempel\, Deutschland
CATEGORIES:LFV Krempel,Vorträge
ATTACH;FMTTYPE=image/png:https://cux-landfrauen.de/wp-content/uploads/2021/11/lfv-event-vortrag.png
END:VEVENT
END:VCALENDAR